BEGIN:VCALENDAR
VERSION:2.0
PRODID:-//SCKG - ECPv6.15.20//NONSGML v1.0//EN
CALSCALE:GREGORIAN
METHOD:PUBLISH
X-WR-CALNAME:SCKG
X-ORIGINAL-URL:https://scknittingguild.com
X-WR-CALDESC:Events for SCKG
REFRESH-INTERVAL;VALUE=DURATION:PT1H
X-Robots-Tag:noindex
X-PUBLISHED-TTL:PT1H
BEGIN:VTIMEZONE
TZID:America/New_York
BEGIN:DAYLIGHT
TZOFFSETFROM:-0500
TZOFFSETTO:-0400
TZNAME:EDT
DTSTART:20230312T070000
END:DAYLIGHT
BEGIN:STANDARD
TZOFFSETFROM:-0400
TZOFFSETTO:-0500
TZNAME:EST
DTSTART:20231105T060000
END:STANDARD
BEGIN:DAYLIGHT
TZOFFSETFROM:-0500
TZOFFSETTO:-0400
TZNAME:EDT
DTSTART:20240310T070000
END:DAYLIGHT
BEGIN:STANDARD
TZOFFSETFROM:-0400
TZOFFSETTO:-0500
TZNAME:EST
DTSTART:20241103T060000
END:STANDARD
BEGIN:DAYLIGHT
TZOFFSETFROM:-0500
TZOFFSETTO:-0400
TZNAME:EDT
DTSTART:20250309T070000
END:DAYLIGHT
BEGIN:STANDARD
TZOFFSETFROM:-0400
TZOFFSETTO:-0500
TZNAME:EST
DTSTART:20251102T060000
END:STANDARD
END:VTIMEZONE
BEGIN:VEVENT
DTSTART;TZID=America/New_York:20240914T090000
DTEND;TZID=America/New_York:20240914T120000
DTSTAMP:20260425T191852
CREATED:20240530T193424Z
LAST-MODIFIED:20240530T193630Z
UID:43671-1726304400-1726315200@scknittingguild.com
SUMMARY:Mosaic Dishcloth with Mimi
DESCRIPTION:Join us as Mimi Kezer explores simple mosaic colorwork; Zoom only – no in person available.
URL:https://scknittingguild.com/index.php/event/mosaic-dishcloth-with-mimi/
ATTACH;FMTTYPE=image/jpeg:https://scknittingguild.com/wp-content/uploads/2024/05/Mosaic-Dishcloth.jpg
END:VEVENT
END:VCALENDAR