BEGIN:VCALENDAR
VERSION:2.0
PRODID:-//SCKG - ECPv6.15.20//NONSGML v1.0//EN
CALSCALE:GREGORIAN
METHOD:PUBLISH
X-WR-CALNAME:SCKG
X-ORIGINAL-URL:https://scknittingguild.com
X-WR-CALDESC:Events for SCKG
REFRESH-INTERVAL;VALUE=DURATION:PT1H
X-Robots-Tag:noindex
X-PUBLISHED-TTL:PT1H
BEGIN:VTIMEZONE
TZID:America/New_York
BEGIN:DAYLIGHT
TZOFFSETFROM:-0500
TZOFFSETTO:-0400
TZNAME:EDT
DTSTART:20210314T070000
END:DAYLIGHT
BEGIN:STANDARD
TZOFFSETFROM:-0400
TZOFFSETTO:-0500
TZNAME:EST
DTSTART:20211107T060000
END:STANDARD
BEGIN:DAYLIGHT
TZOFFSETFROM:-0500
TZOFFSETTO:-0400
TZNAME:EDT
DTSTART:20220313T070000
END:DAYLIGHT
BEGIN:STANDARD
TZOFFSETFROM:-0400
TZOFFSETTO:-0500
TZNAME:EST
DTSTART:20221106T060000
END:STANDARD
BEGIN:DAYLIGHT
TZOFFSETFROM:-0500
TZOFFSETTO:-0400
TZNAME:EDT
DTSTART:20230312T070000
END:DAYLIGHT
BEGIN:STANDARD
TZOFFSETFROM:-0400
TZOFFSETTO:-0500
TZNAME:EST
DTSTART:20231105T060000
END:STANDARD
BEGIN:DAYLIGHT
TZOFFSETFROM:-0500
TZOFFSETTO:-0400
TZNAME:EDT
DTSTART:20240310T070000
END:DAYLIGHT
BEGIN:STANDARD
TZOFFSETFROM:-0400
TZOFFSETTO:-0500
TZNAME:EST
DTSTART:20241103T060000
END:STANDARD
END:VTIMEZONE
BEGIN:VEVENT
DTSTART;TZID=America/New_York:20230203T140000
DTEND;TZID=America/New_York:20230203T170000
DTSTAMP:20260425T090445
CREATED:20221023T143433Z
LAST-MODIFIED:20221023T152543Z
UID:42355-1675432800-1675443600@scknittingguild.com
SUMMARY:Knitting Edges onto Garments and Fabric
DESCRIPTION:Instructor:  Lisa Lamb
URL:https://scknittingguild.com/index.php/event/knitting-edges-onto-garments-and-fabric/
CATEGORIES:KnitInn,KnitInn Class
ATTACH;FMTTYPE=image/jpeg:https://scknittingguild.com/wp-content/uploads/2022/09/Resized_20221013_215623.jpeg
END:VEVENT
BEGIN:VEVENT
DTSTART;TZID=America/New_York:20230203T140000
DTEND;TZID=America/New_York:20230203T170000
DTSTAMP:20260425T090445
CREATED:20221023T143317Z
LAST-MODIFIED:20221023T152558Z
UID:42353-1675432800-1675443600@scknittingguild.com
SUMMARY:BUILD A BETTER FABRIC
DESCRIPTION:Instructor: Patty Lyons
URL:https://scknittingguild.com/index.php/event/build-a-better-fabric/
CATEGORIES:KnitInn,KnitInn Class
ATTACH;FMTTYPE=image/png:https://scknittingguild.com/wp-content/uploads/2022/09/Build-a-Better-Fabric.png
END:VEVENT
BEGIN:VEVENT
DTSTART;TZID=America/New_York:20230203T140000
DTEND;TZID=America/New_York:20230203T163000
DTSTAMP:20260425T090445
CREATED:20221023T144333Z
LAST-MODIFIED:20221023T152615Z
UID:42361-1675432800-1675441800@scknittingguild.com
SUMMARY:Lucet
DESCRIPTION:Instructor: Nicole Tobias
URL:https://scknittingguild.com/index.php/event/lucet/
CATEGORIES:KnitInn,KnitInn Class
ATTACH;FMTTYPE=image/jpeg:https://scknittingguild.com/wp-content/uploads/2022/09/20210915_115846-v2.jpg
END:VEVENT
BEGIN:VEVENT
DTSTART;TZID=America/New_York:20230203T113000
DTEND;TZID=America/New_York:20230203T120000
DTSTAMP:20260425T090445
CREATED:20221024T215035Z
LAST-MODIFIED:20221024T215035Z
UID:42418-1675423800-1675425600@scknittingguild.com
SUMMARY:Yoga For Makers & Crafters
DESCRIPTION:Instructor: Jennifer Chisam\nOffered Friday and Saturday at 11:30am and 4:30pm
URL:https://scknittingguild.com/index.php/event/yoga-for-makers-crafters/
CATEGORIES:KnitInn,KnitInn Class
ATTACH;FMTTYPE=image/png:https://scknittingguild.com/wp-content/uploads/2022/10/yoga.png
END:VEVENT
BEGIN:VEVENT
DTSTART;TZID=America/New_York:20230203T100000
DTEND;TZID=America/New_York:20230203T113000
DTSTAMP:20260425T090445
CREATED:20221023T142932Z
LAST-MODIFIED:20221023T152634Z
UID:42349-1675418400-1675423800@scknittingguild.com
SUMMARY:Adding Crochet Edges to Blankets & Cuffs
DESCRIPTION:Instructor: Ginny Bubek
URL:https://scknittingguild.com/index.php/event/adding-crochet-edges-to-blankets-cuffs/
CATEGORIES:KnitInn,KnitInn Class
ATTACH;FMTTYPE=image/jpeg:https://scknittingguild.com/wp-content/uploads/2022/09/Crochet-edging-v3.jpg
END:VEVENT
BEGIN:VEVENT
DTSTART;TZID=America/New_York:20230203T090000
DTEND;TZID=America/New_York:20230203T120000
DTSTAMP:20260425T090445
CREATED:20221023T143207Z
LAST-MODIFIED:20221023T152700Z
UID:42351-1675414800-1675425600@scknittingguild.com
SUMMARY:Mitered Square
DESCRIPTION:Instructor: Susie Ericson-West
URL:https://scknittingguild.com/index.php/event/mitered-square/
CATEGORIES:KnitInn,KnitInn Class
ATTACH;FMTTYPE=image/jpeg:https://scknittingguild.com/wp-content/uploads/2022/10/mitered-square-back.jpg
END:VEVENT
BEGIN:VEVENT
DTSTART;TZID=America/New_York:20230203T090000
DTEND;TZID=America/New_York:20230203T120000
DTSTAMP:20260425T090445
CREATED:20221023T142802Z
LAST-MODIFIED:20221114T163134Z
UID:42347-1675414800-1675425600@scknittingguild.com
SUMMARY:Cabled Cup Cozy
DESCRIPTION:Instructor: Sharon Swede
URL:https://scknittingguild.com/index.php/event/cup-cozy/
CATEGORIES:KnitInn,KnitInn Class
ATTACH;FMTTYPE=image/jpeg:https://scknittingguild.com/wp-content/uploads/2022/10/cup-cozy-rotated-e1668443607170.jpeg
END:VEVENT
BEGIN:VEVENT
DTSTART;TZID=America/New_York:20230203T090000
DTEND;TZID=America/New_York:20230203T120000
DTSTAMP:20260425T090445
CREATED:20221023T142702Z
LAST-MODIFIED:20221023T152741Z
UID:42345-1675414800-1675425600@scknittingguild.com
SUMMARY:Small Rounds + Two at a Time
DESCRIPTION:Instructor: Jolie Elder
URL:https://scknittingguild.com/index.php/event/small-rounds-two-at-a-time/
CATEGORIES:KnitInn,KnitInn Class
ATTACH;FMTTYPE=image/jpeg:https://scknittingguild.com/wp-content/uploads/2022/09/Small-Round-on-2-circs.jpg
END:VEVENT
BEGIN:VEVENT
DTSTART;TZID=America/New_York:20230203T090000
DTEND;TZID=America/New_York:20230203T120000
DTSTAMP:20260425T090445
CREATED:20221023T142439Z
LAST-MODIFIED:20221023T152758Z
UID:42343-1675414800-1675425600@scknittingguild.com
SUMMARY:SECRETS OF GAUGE
DESCRIPTION:Instructor: Patty Lyons
URL:https://scknittingguild.com/index.php/event/secrets-of-gauge/
CATEGORIES:KnitInn,KnitInn Class
ATTACH;FMTTYPE=image/jpeg:https://scknittingguild.com/wp-content/uploads/2022/09/Secrets-of-Gauge-copy-2.jpg
END:VEVENT
BEGIN:VEVENT
DTSTART;TZID=America/New_York:20230202T190000
DTEND;TZID=America/New_York:20230202T210000
DTSTAMP:20260425T090445
CREATED:20221023T153104Z
LAST-MODIFIED:20221023T153104Z
UID:42392-1675364400-1675371600@scknittingguild.com
SUMMARY:Meet & Greet with Patty Lyons
DESCRIPTION:Presenter: Patty Lyons
URL:https://scknittingguild.com/index.php/event/meet-greet-with-patty-lyons/
CATEGORIES:KnitInn
ATTACH;FMTTYPE=image/png:https://scknittingguild.com/wp-content/uploads/2022/08/PattyLyons.png
END:VEVENT
BEGIN:VEVENT
DTSTART;TZID=America/New_York:20220206T090000
DTEND;TZID=America/New_York:20220206T120000
DTSTAMP:20260425T090445
CREATED:20211019T215935Z
LAST-MODIFIED:20211029T210109Z
UID:41582-1644138000-1644148800@scknittingguild.com
SUMMARY:Two Color Brioche
DESCRIPTION:Instructor: Katherine Dobrenen
URL:https://scknittingguild.com/index.php/event/two-color-brioche/
END:VEVENT
BEGIN:VEVENT
DTSTART;TZID=America/New_York:20220206T090000
DTEND;TZID=America/New_York:20220206T120000
DTSTAMP:20260425T090445
CREATED:20211018T160158Z
LAST-MODIFIED:20211019T214002Z
UID:41500-1644138000-1644148800@scknittingguild.com
SUMMARY:TIPS AND TRICKS FOR KNITTING WITH VARIEGATED YARN
DESCRIPTION:Instructor: Barbara Benson
URL:https://scknittingguild.com/index.php/event/tips-and-tricks-for-knitting-with-variegated-yarn/
END:VEVENT
BEGIN:VEVENT
DTSTART;TZID=America/New_York:20220206T090000
DTEND;TZID=America/New_York:20220206T110000
DTSTAMP:20260425T090445
CREATED:20211019T215521Z
LAST-MODIFIED:20211019T215521Z
UID:41580-1644138000-1644145200@scknittingguild.com
SUMMARY:Latvian Braid
DESCRIPTION:Instructor: Jennifer Clinton
URL:https://scknittingguild.com/index.php/event/latvian-braid/
END:VEVENT
BEGIN:VEVENT
DTSTART;TZID=America/New_York:20220205T140000
DTEND;TZID=America/New_York:20220205T170000
DTSTAMP:20260425T090445
CREATED:20211020T154957Z
LAST-MODIFIED:20211020T154957Z
UID:41620-1644069600-1644080400@scknittingguild.com
SUMMARY:Burgdorf Cowl
DESCRIPTION:Instructor: Carolyn Freshour
URL:https://scknittingguild.com/index.php/event/burgdorf-cowl/
END:VEVENT
BEGIN:VEVENT
DTSTART;TZID=America/New_York:20220205T140000
DTEND;TZID=America/New_York:20220205T170000
DTSTAMP:20260425T090445
CREATED:20211018T213433Z
LAST-MODIFIED:20211019T220855Z
UID:41540-1644069600-1644080400@scknittingguild.com
SUMMARY:Short Rows
DESCRIPTION:Instructor: Katherine Dobrenen
URL:https://scknittingguild.com/index.php/event/short-rows/
END:VEVENT
BEGIN:VEVENT
DTSTART;TZID=America/New_York:20220205T140000
DTEND;TZID=America/New_York:20220205T170000
DTSTAMP:20260425T090445
CREATED:20211018T153651Z
LAST-MODIFIED:20211019T220814Z
UID:41492-1644069600-1644080400@scknittingguild.com
SUMMARY:MOSAIC & LACE TECHNIQUE TOOLBOX
DESCRIPTION:Instructor: Barbara Benson
URL:https://scknittingguild.com/index.php/event/mosaic-lace-technique-toolbox/
END:VEVENT
BEGIN:VEVENT
DTSTART;TZID=America/New_York:20220205T140000
DTEND;TZID=America/New_York:20220205T160000
DTSTAMP:20260425T090445
CREATED:20220106T214111Z
LAST-MODIFIED:20220123T154257Z
UID:41902-1644069600-1644076800@scknittingguild.com
SUMMARY:Cables Made Easy
DESCRIPTION:Instructor: Alannah Wray
URL:https://scknittingguild.com/index.php/event/cable-knitting/
END:VEVENT
BEGIN:VEVENT
DTSTART;TZID=America/New_York:20220205T140000
DTEND;TZID=America/New_York:20220205T160000
DTSTAMP:20260425T090445
CREATED:20211029T013412Z
LAST-MODIFIED:20220102T212923Z
UID:41677-1644069600-1644076800@scknittingguild.com
SUMMARY:Knit a Square\, Knit a Bunny
DESCRIPTION:
URL:https://scknittingguild.com/index.php/event/knit-a-square-knit-a-bunny-or-cat/
END:VEVENT
BEGIN:VEVENT
DTSTART;TZID=America/New_York:20220205T140000
DTEND;TZID=America/New_York:20220205T153000
DTSTAMP:20260425T090445
CREATED:20211018T214809Z
LAST-MODIFIED:20211019T224703Z
UID:41557-1644069600-1644075000@scknittingguild.com
SUMMARY:Knit One Below
DESCRIPTION:Instructor: Shirley Williams
URL:https://scknittingguild.com/index.php/event/knit-one-below/
END:VEVENT
BEGIN:VEVENT
DTSTART;TZID=America/New_York:20220205T140000
DTEND;TZID=America/New_York:20220205T153000
DTSTAMP:20260425T090445
CREATED:20211018T214239Z
LAST-MODIFIED:20220111T224131Z
UID:41552-1644069600-1644075000@scknittingguild.com
SUMMARY:CANCELLED: Design a Pattern
DESCRIPTION:Instructor: Stacie Hogan
URL:https://scknittingguild.com/index.php/event/design-a-pattern/
END:VEVENT
BEGIN:VEVENT
DTSTART;TZID=America/New_York:20220205T120000
DTEND;TZID=America/New_York:20220205T140000
DTSTAMP:20260425T090445
CREATED:20211020T194906Z
LAST-MODIFIED:20211020T195126Z
UID:41643-1644062400-1644069600@scknittingguild.com
SUMMARY:Saturday Lunch
DESCRIPTION:Baked Potato and Salad Bar
URL:https://scknittingguild.com/index.php/event/saturday-lunch/
END:VEVENT
BEGIN:VEVENT
DTSTART;TZID=America/New_York:20220205T090000
DTEND;TZID=America/New_York:20220205T120000
DTSTAMP:20260425T090445
CREATED:20211020T154008Z
LAST-MODIFIED:20211029T012323Z
UID:41618-1644051600-1644062400@scknittingguild.com
SUMMARY:Knitting and Fixing Mistakes in Lace
DESCRIPTION:Instructor: Krista Jameson
URL:https://scknittingguild.com/index.php/event/knitting-and-fixing-mistakes-in-lace/
END:VEVENT
BEGIN:VEVENT
DTSTART;TZID=America/New_York:20220205T090000
DTEND;TZID=America/New_York:20220205T120000
DTSTAMP:20260425T090445
CREATED:20211018T211440Z
LAST-MODIFIED:20211030T020553Z
UID:41543-1644051600-1644062400@scknittingguild.com
SUMMARY:Beginner Intarsia
DESCRIPTION:Instructor: Nancy Zeigler
URL:https://scknittingguild.com/index.php/event/beginner-intarsia/
END:VEVENT
BEGIN:VEVENT
DTSTART;TZID=America/New_York:20220205T090000
DTEND;TZID=America/New_York:20220205T120000
DTSTAMP:20260425T090445
CREATED:20211018T195910Z
LAST-MODIFIED:20211019T220614Z
UID:41532-1644051600-1644062400@scknittingguild.com
SUMMARY:Scrap Busting
DESCRIPTION:Instructor: Jolie Elder
URL:https://scknittingguild.com/index.php/event/scrap-busting/
END:VEVENT
BEGIN:VEVENT
DTSTART;TZID=America/New_York:20220205T090000
DTEND;TZID=America/New_York:20220205T120000
DTSTAMP:20260425T090445
CREATED:20211018T182828Z
LAST-MODIFIED:20211019T230347Z
UID:41520-1644051600-1644062400@scknittingguild.com
SUMMARY:Inserting a Zipper into a Knitted Item
DESCRIPTION:Instructor: Marilyn Hastings
URL:https://scknittingguild.com/index.php/event/inserting-a-zipper-into-a-knitted-item/
END:VEVENT
BEGIN:VEVENT
DTSTART;TZID=America/New_York:20220205T090000
DTEND;TZID=America/New_York:20220205T120000
DTSTAMP:20260425T090445
CREATED:20211017T224927Z
LAST-MODIFIED:20211019T220548Z
UID:41481-1644051600-1644062400@scknittingguild.com
SUMMARY:MOSAIC COLORWORK
DESCRIPTION:Instructor: Barbara Benson
URL:https://scknittingguild.com/index.php/event/mosaic-colorwork/
END:VEVENT
BEGIN:VEVENT
DTSTART;TZID=America/New_York:20220205T090000
DTEND;TZID=America/New_York:20220205T110000
DTSTAMP:20260425T090445
CREATED:20211110T192612Z
LAST-MODIFIED:20211110T192612Z
UID:41798-1644051600-1644058800@scknittingguild.com
SUMMARY:Mock Cable Scarf
DESCRIPTION:
URL:https://scknittingguild.com/index.php/event/mock-cable-scarf/
END:VEVENT
BEGIN:VEVENT
DTSTART;TZID=America/New_York:20220204T183000
DTEND;TZID=America/New_York:20220204T190000
DTSTAMP:20260425T090445
CREATED:20211020T194243Z
LAST-MODIFIED:20211020T194256Z
UID:41638-1643999400-1644001200@scknittingguild.com
SUMMARY:Friday Dinner
DESCRIPTION:Spaghetti\, YUM!!
URL:https://scknittingguild.com/index.php/event/friday-dinner/
END:VEVENT
BEGIN:VEVENT
DTSTART;TZID=America/New_York:20220204T140000
DTEND;TZID=America/New_York:20220204T170000
DTSTAMP:20260425T090445
CREATED:20211020T135336Z
LAST-MODIFIED:20211020T135336Z
UID:41615-1643983200-1643994000@scknittingguild.com
SUMMARY:Swiss Check Scarf
DESCRIPTION:Instructor: Carolyn Freshour
URL:https://scknittingguild.com/index.php/event/swiss-check-scarf/
END:VEVENT
BEGIN:VEVENT
DTSTART;TZID=America/New_York:20220204T140000
DTEND;TZID=America/New_York:20220204T170000
DTSTAMP:20260425T090445
CREATED:20211018T210710Z
LAST-MODIFIED:20211029T012435Z
UID:41538-1643983200-1643994000@scknittingguild.com
SUMMARY:10 Stitch Scarf
DESCRIPTION:Instructor: Sharon Swede
URL:https://scknittingguild.com/index.php/event/10-stitch-scarf/
END:VEVENT
END:VCALENDAR