BEGIN:VCALENDAR
VERSION:2.0
PRODID:-//SCKG - ECPv6.15.20//NONSGML v1.0//EN
CALSCALE:GREGORIAN
METHOD:PUBLISH
X-WR-CALNAME:SCKG
X-ORIGINAL-URL:https://scknittingguild.com
X-WR-CALDESC:Events for SCKG
REFRESH-INTERVAL;VALUE=DURATION:PT1H
X-Robots-Tag:noindex
X-PUBLISHED-TTL:PT1H
BEGIN:VTIMEZONE
TZID:America/New_York
BEGIN:DAYLIGHT
TZOFFSETFROM:-0500
TZOFFSETTO:-0400
TZNAME:EDT
DTSTART:20180311T070000
END:DAYLIGHT
BEGIN:STANDARD
TZOFFSETFROM:-0400
TZOFFSETTO:-0500
TZNAME:EST
DTSTART:20181104T060000
END:STANDARD
BEGIN:DAYLIGHT
TZOFFSETFROM:-0500
TZOFFSETTO:-0400
TZNAME:EDT
DTSTART:20190310T070000
END:DAYLIGHT
BEGIN:STANDARD
TZOFFSETFROM:-0400
TZOFFSETTO:-0500
TZNAME:EST
DTSTART:20191103T060000
END:STANDARD
BEGIN:DAYLIGHT
TZOFFSETFROM:-0500
TZOFFSETTO:-0400
TZNAME:EDT
DTSTART:20200308T070000
END:DAYLIGHT
BEGIN:STANDARD
TZOFFSETFROM:-0400
TZOFFSETTO:-0500
TZNAME:EST
DTSTART:20201101T060000
END:STANDARD
BEGIN:DAYLIGHT
TZOFFSETFROM:-0500
TZOFFSETTO:-0400
TZNAME:EDT
DTSTART:20210314T070000
END:DAYLIGHT
BEGIN:STANDARD
TZOFFSETFROM:-0400
TZOFFSETTO:-0500
TZNAME:EST
DTSTART:20211107T060000
END:STANDARD
BEGIN:DAYLIGHT
TZOFFSETFROM:-0500
TZOFFSETTO:-0400
TZNAME:EDT
DTSTART:20220313T070000
END:DAYLIGHT
BEGIN:STANDARD
TZOFFSETFROM:-0400
TZOFFSETTO:-0500
TZNAME:EST
DTSTART:20221106T060000
END:STANDARD
BEGIN:DAYLIGHT
TZOFFSETFROM:-0500
TZOFFSETTO:-0400
TZNAME:EDT
DTSTART:20230312T070000
END:DAYLIGHT
BEGIN:STANDARD
TZOFFSETFROM:-0400
TZOFFSETTO:-0500
TZNAME:EST
DTSTART:20231105T060000
END:STANDARD
END:VTIMEZONE
BEGIN:VTIMEZONE
TZID:UTC
BEGIN:STANDARD
TZOFFSETFROM:+0000
TZOFFSETTO:+0000
TZNAME:UTC
DTSTART:20170101T000000
END:STANDARD
END:VTIMEZONE
BEGIN:VEVENT
DTSTART;TZID=America/New_York:20220205T140000
DTEND;TZID=America/New_York:20220205T153000
DTSTAMP:20260425T203048
CREATED:20211018T214809Z
LAST-MODIFIED:20211019T224703Z
UID:41557-1644069600-1644075000@scknittingguild.com
SUMMARY:Knit One Below
DESCRIPTION:Instructor: Shirley Williams
URL:https://scknittingguild.com/index.php/event/knit-one-below/
END:VEVENT
BEGIN:VEVENT
DTSTART;TZID=America/New_York:20220205T140000
DTEND;TZID=America/New_York:20220205T153000
DTSTAMP:20260425T203048
CREATED:20211018T214239Z
LAST-MODIFIED:20220111T224131Z
UID:41552-1644069600-1644075000@scknittingguild.com
SUMMARY:CANCELLED: Design a Pattern
DESCRIPTION:Instructor: Stacie Hogan
URL:https://scknittingguild.com/index.php/event/design-a-pattern/
END:VEVENT
BEGIN:VEVENT
DTSTART;TZID=America/New_York:20220205T120000
DTEND;TZID=America/New_York:20220205T140000
DTSTAMP:20260425T203048
CREATED:20211020T194906Z
LAST-MODIFIED:20211020T195126Z
UID:41643-1644062400-1644069600@scknittingguild.com
SUMMARY:Saturday Lunch
DESCRIPTION:Baked Potato and Salad Bar
URL:https://scknittingguild.com/index.php/event/saturday-lunch/
END:VEVENT
BEGIN:VEVENT
DTSTART;TZID=America/New_York:20220205T090000
DTEND;TZID=America/New_York:20220205T120000
DTSTAMP:20260425T203048
CREATED:20211020T154008Z
LAST-MODIFIED:20211029T012323Z
UID:41618-1644051600-1644062400@scknittingguild.com
SUMMARY:Knitting and Fixing Mistakes in Lace
DESCRIPTION:Instructor: Krista Jameson
URL:https://scknittingguild.com/index.php/event/knitting-and-fixing-mistakes-in-lace/
END:VEVENT
BEGIN:VEVENT
DTSTART;TZID=America/New_York:20220205T090000
DTEND;TZID=America/New_York:20220205T120000
DTSTAMP:20260425T203048
CREATED:20211018T211440Z
LAST-MODIFIED:20211030T020553Z
UID:41543-1644051600-1644062400@scknittingguild.com
SUMMARY:Beginner Intarsia
DESCRIPTION:Instructor: Nancy Zeigler
URL:https://scknittingguild.com/index.php/event/beginner-intarsia/
END:VEVENT
BEGIN:VEVENT
DTSTART;TZID=America/New_York:20220205T090000
DTEND;TZID=America/New_York:20220205T120000
DTSTAMP:20260425T203048
CREATED:20211018T195910Z
LAST-MODIFIED:20211019T220614Z
UID:41532-1644051600-1644062400@scknittingguild.com
SUMMARY:Scrap Busting
DESCRIPTION:Instructor: Jolie Elder
URL:https://scknittingguild.com/index.php/event/scrap-busting/
END:VEVENT
BEGIN:VEVENT
DTSTART;TZID=America/New_York:20220205T090000
DTEND;TZID=America/New_York:20220205T120000
DTSTAMP:20260425T203048
CREATED:20211018T182828Z
LAST-MODIFIED:20211019T230347Z
UID:41520-1644051600-1644062400@scknittingguild.com
SUMMARY:Inserting a Zipper into a Knitted Item
DESCRIPTION:Instructor: Marilyn Hastings
URL:https://scknittingguild.com/index.php/event/inserting-a-zipper-into-a-knitted-item/
END:VEVENT
BEGIN:VEVENT
DTSTART;TZID=America/New_York:20220205T090000
DTEND;TZID=America/New_York:20220205T120000
DTSTAMP:20260425T203048
CREATED:20211017T224927Z
LAST-MODIFIED:20211019T220548Z
UID:41481-1644051600-1644062400@scknittingguild.com
SUMMARY:MOSAIC COLORWORK
DESCRIPTION:Instructor: Barbara Benson
URL:https://scknittingguild.com/index.php/event/mosaic-colorwork/
END:VEVENT
BEGIN:VEVENT
DTSTART;TZID=America/New_York:20220205T090000
DTEND;TZID=America/New_York:20220205T110000
DTSTAMP:20260425T203048
CREATED:20211110T192612Z
LAST-MODIFIED:20211110T192612Z
UID:41798-1644051600-1644058800@scknittingguild.com
SUMMARY:Mock Cable Scarf
DESCRIPTION:
URL:https://scknittingguild.com/index.php/event/mock-cable-scarf/
END:VEVENT
BEGIN:VEVENT
DTSTART;TZID=America/New_York:20220204T183000
DTEND;TZID=America/New_York:20220204T190000
DTSTAMP:20260425T203048
CREATED:20211020T194243Z
LAST-MODIFIED:20211020T194256Z
UID:41638-1643999400-1644001200@scknittingguild.com
SUMMARY:Friday Dinner
DESCRIPTION:Spaghetti\, YUM!!
URL:https://scknittingguild.com/index.php/event/friday-dinner/
END:VEVENT
BEGIN:VEVENT
DTSTART;TZID=America/New_York:20220204T140000
DTEND;TZID=America/New_York:20220204T170000
DTSTAMP:20260425T203048
CREATED:20211020T135336Z
LAST-MODIFIED:20211020T135336Z
UID:41615-1643983200-1643994000@scknittingguild.com
SUMMARY:Swiss Check Scarf
DESCRIPTION:Instructor: Carolyn Freshour
URL:https://scknittingguild.com/index.php/event/swiss-check-scarf/
END:VEVENT
BEGIN:VEVENT
DTSTART;TZID=America/New_York:20220204T140000
DTEND;TZID=America/New_York:20220204T170000
DTSTAMP:20260425T203048
CREATED:20211018T210710Z
LAST-MODIFIED:20211029T012435Z
UID:41538-1643983200-1643994000@scknittingguild.com
SUMMARY:10 Stitch Scarf
DESCRIPTION:Instructor: Sharon Swede
URL:https://scknittingguild.com/index.php/event/10-stitch-scarf/
END:VEVENT
BEGIN:VEVENT
DTSTART;TZID=America/New_York:20220204T140000
DTEND;TZID=America/New_York:20220204T170000
DTSTAMP:20260425T203048
CREATED:20211018T184120Z
LAST-MODIFIED:20211019T220429Z
UID:41526-1643983200-1643994000@scknittingguild.com
SUMMARY:Machine Knitting
DESCRIPTION:Instructor: Shirley Williams
URL:https://scknittingguild.com/index.php/event/machine-knitting/
END:VEVENT
BEGIN:VEVENT
DTSTART;TZID=America/New_York:20220204T140000
DTEND;TZID=America/New_York:20220204T170000
DTSTAMP:20260425T203048
CREATED:20211018T175324Z
LAST-MODIFIED:20211019T220445Z
UID:41503-1643983200-1643994000@scknittingguild.com
SUMMARY:Special Reversible Stitches
DESCRIPTION:Instructor: Jolie Elder
URL:https://scknittingguild.com/index.php/event/special-reversible-stitches/
END:VEVENT
BEGIN:VEVENT
DTSTART;TZID=America/New_York:20220204T140000
DTEND;TZID=America/New_York:20220204T170000
DTSTAMP:20260425T203048
CREATED:20211017T224334Z
LAST-MODIFIED:20211019T220412Z
UID:41476-1643983200-1643994000@scknittingguild.com
SUMMARY:THE MAGICAL ART OF BLOCKING YOUR HAND KNITS
DESCRIPTION:Instructor: Barbara Benson
URL:https://scknittingguild.com/index.php/event/the-magical-art-of-blocking-your-hand-knits/
END:VEVENT
BEGIN:VEVENT
DTSTART;TZID=America/New_York:20220204T120000
DTEND;TZID=America/New_York:20220204T140000
DTSTAMP:20260425T203048
CREATED:20211020T194118Z
LAST-MODIFIED:20211020T194118Z
UID:41636-1643976000-1643983200@scknittingguild.com
SUMMARY:Friday Lunch
DESCRIPTION:Soup & Salad
URL:https://scknittingguild.com/index.php/event/friday-lunch/
END:VEVENT
BEGIN:VEVENT
DTSTART;TZID=America/New_York:20220204T090000
DTEND;TZID=America/New_York:20220204T120000
DTSTAMP:20260425T203048
CREATED:20211020T134820Z
LAST-MODIFIED:20211020T134820Z
UID:41608-1643965200-1643976000@scknittingguild.com
SUMMARY:Lush Sampler Cowl
DESCRIPTION:Instructor: Carolyn Freshour
URL:https://scknittingguild.com/index.php/event/lush-sampler-cowl/
END:VEVENT
BEGIN:VEVENT
DTSTART;TZID=America/New_York:20220204T090000
DTEND;TZID=America/New_York:20220204T120000
DTSTAMP:20260425T203048
CREATED:20211020T132431Z
LAST-MODIFIED:20211020T132431Z
UID:41603-1643965200-1643976000@scknittingguild.com
SUMMARY:Beginning Knitting
DESCRIPTION:Instructor: Krista Jameson
URL:https://scknittingguild.com/index.php/event/beginning-knitting/
END:VEVENT
BEGIN:VEVENT
DTSTART;TZID=America/New_York:20220204T090000
DTEND;TZID=America/New_York:20220204T120000
DTSTAMP:20260425T203048
CREATED:20211018T181255Z
LAST-MODIFIED:20211019T220152Z
UID:41513-1643965200-1643976000@scknittingguild.com
SUMMARY:Ribbing
DESCRIPTION:Instructor: Shirley Williams
URL:https://scknittingguild.com/index.php/event/ribbing/
END:VEVENT
BEGIN:VEVENT
DTSTART;TZID=America/New_York:20220204T090000
DTEND;TZID=America/New_York:20220204T120000
DTSTAMP:20260425T203048
CREATED:20211018T175905Z
LAST-MODIFIED:20211019T220330Z
UID:41507-1643965200-1643976000@scknittingguild.com
SUMMARY:Top Down Socks
DESCRIPTION:Instructor: Jennifer Clinton
URL:https://scknittingguild.com/index.php/event/top-down-socks/
END:VEVENT
BEGIN:VEVENT
DTSTART;TZID=America/New_York:20220204T090000
DTEND;TZID=America/New_York:20220204T120000
DTSTAMP:20260425T203048
CREATED:20211017T223243Z
LAST-MODIFIED:20211019T220303Z
UID:41471-1643965200-1643976000@scknittingguild.com
SUMMARY:ELONGATED\, LIFTED\, AND CINCHED
DESCRIPTION:Instructor: Barbara Benson
URL:https://scknittingguild.com/index.php/event/elongated-lifted-and-cinched/
END:VEVENT
BEGIN:VEVENT
DTSTART;TZID=America/New_York:20220203T190000
DTEND;TZID=America/New_York:20220203T210000
DTSTAMP:20260425T203048
CREATED:20211017T212804Z
LAST-MODIFIED:20211018T212140Z
UID:41462-1643914800-1643922000@scknittingguild.com
SUMMARY:MEET & GREET with Barbara Benson
DESCRIPTION:
URL:https://scknittingguild.com/index.php/event/meet-greet/
END:VEVENT
BEGIN:VEVENT
DTSTART;TZID=America/New_York:20191209T184500
DTEND;TZID=America/New_York:20191209T200000
DTSTAMP:20260425T203048
CREATED:20190730T202536Z
LAST-MODIFIED:20190730T202536Z
UID:3518-1575917100-1575921600@scknittingguild.com
SUMMARY:Dec Meeting - Holiday Party
DESCRIPTION:
URL:https://scknittingguild.com/index.php/event/dec-meeting-holiday-party/
LOCATION:Interim Healthcare\, 16 Hyland Rd\, Greenville\, SC\, 29615\, United States
END:VEVENT
BEGIN:VEVENT
DTSTART;TZID=America/New_York:20191111T184500
DTEND;TZID=America/New_York:20191111T200000
DTSTAMP:20260425T203048
CREATED:20190730T202416Z
LAST-MODIFIED:20190730T202416Z
UID:3516-1573497900-1573502400@scknittingguild.com
SUMMARY:Nov Meeting - Program: How to use life lines for Knitting
DESCRIPTION:
URL:https://scknittingguild.com/index.php/event/nov-meeting-program-how-to-use-life-lines-for-knitting/
LOCATION:Interim Healthcare\, 16 Hyland Rd\, Greenville\, SC\, 29615\, United States
END:VEVENT
BEGIN:VEVENT
DTSTART;TZID=America/New_York:20191014T184500
DTEND;TZID=America/New_York:20191014T200000
DTSTAMP:20260425T203048
CREATED:20190730T202105Z
LAST-MODIFIED:20190730T202105Z
UID:3514-1571078700-1571083200@scknittingguild.com
SUMMARY:Oct Meeting - Program: How fiber structure affects your knitting
DESCRIPTION:
URL:https://scknittingguild.com/index.php/event/oct-meeting-program-how-fiber-structure-affects-your-knitting/
LOCATION:Interim Healthcare\, 16 Hyland Rd\, Greenville\, SC\, 29615\, United States
END:VEVENT
BEGIN:VEVENT
DTSTART;TZID=America/New_York:20190909T184500
DTEND;TZID=America/New_York:20190909T200000
DTSTAMP:20260425T203048
CREATED:20190730T201944Z
LAST-MODIFIED:20190907T123457Z
UID:3512-1568054700-1568059200@scknittingguild.com
SUMMARY:Sept Meeting - Program: Giving Tree Workshop
DESCRIPTION:Knit together with other guild members on angel wings\, hats\, and blankets for Project Robby. We will be decorating our Giving Tree this holiday season with these items and then will be sending them on to Project Robby for distribution.
URL:https://scknittingguild.com/index.php/event/sept-meeting-program-giving-tree-workshop/
LOCATION:Interim Healthcare\, 16 Hyland Rd\, Greenville\, SC\, 29615\, United States
END:VEVENT
BEGIN:VEVENT
DTSTART;TZID=America/New_York:20190812T184500
DTEND;TZID=America/New_York:20190812T200000
DTSTAMP:20260425T203048
CREATED:20190730T201806Z
LAST-MODIFIED:20190730T201806Z
UID:3510-1565635500-1565640000@scknittingguild.com
SUMMARY:August Meeting - Program: Dyeing Fiber
DESCRIPTION:
URL:https://scknittingguild.com/index.php/event/august-meeting-program-dyeing-fiber/
LOCATION:Interim Healthcare\, 16 Hyland Rd\, Greenville\, SC\, 29615\, United States
END:VEVENT
BEGIN:VEVENT
DTSTART;TZID=UTC:20181210T173000
DTEND;TZID=UTC:20181210T203000
DTSTAMP:20260425T203048
CREATED:20180228T000153Z
LAST-MODIFIED:20180826T180525Z
UID:2042-1544463000-1544473800@scknittingguild.com
SUMMARY:December 2018 Meeting Program
DESCRIPTION:Holiday Party and Program Planning for 2019
URL:https://scknittingguild.com/index.php/event/december-2018-meeting-program/
CATEGORIES:Meeting Programs
END:VEVENT
BEGIN:VEVENT
DTSTART;TZID=UTC:20181112T184500
DTEND;TZID=UTC:20181112T203000
DTSTAMP:20260425T203048
CREATED:20180227T235751Z
LAST-MODIFIED:20180911T031235Z
UID:2040-1542048300-1542054600@scknittingguild.com
SUMMARY:November 2018 Meeting Program
DESCRIPTION:The History of Needlework – Laura Thompson
URL:https://scknittingguild.com/index.php/event/november-2018-meeting-program/
CATEGORIES:Meeting Programs
END:VEVENT
BEGIN:VEVENT
DTSTART;TZID=UTC:20181008T184500
DTEND;TZID=UTC:20181008T203000
DTSTAMP:20260425T203048
CREATED:20180227T235635Z
LAST-MODIFIED:20180911T031132Z
UID:2038-1539024300-1539030600@scknittingguild.com
SUMMARY:October 2018 Meeting Program
DESCRIPTION:Different Ways to Knit Socks – Jennifer Clinton
URL:https://scknittingguild.com/index.php/event/october-2018-meeting-program/
CATEGORIES:Meeting Programs
END:VEVENT
END:VCALENDAR