BEGIN:VCALENDAR
VERSION:2.0
PRODID:-//SCKG - ECPv6.15.20//NONSGML v1.0//EN
CALSCALE:GREGORIAN
METHOD:PUBLISH
X-WR-CALNAME:SCKG
X-ORIGINAL-URL:https://scknittingguild.com
X-WR-CALDESC:Events for SCKG
REFRESH-INTERVAL;VALUE=DURATION:PT1H
X-Robots-Tag:noindex
X-PUBLISHED-TTL:PT1H
BEGIN:VTIMEZONE
TZID:America/New_York
BEGIN:DAYLIGHT
TZOFFSETFROM:-0500
TZOFFSETTO:-0400
TZNAME:EDT
DTSTART:20220313T070000
END:DAYLIGHT
BEGIN:STANDARD
TZOFFSETFROM:-0400
TZOFFSETTO:-0500
TZNAME:EST
DTSTART:20221106T060000
END:STANDARD
BEGIN:DAYLIGHT
TZOFFSETFROM:-0500
TZOFFSETTO:-0400
TZNAME:EDT
DTSTART:20230312T070000
END:DAYLIGHT
BEGIN:STANDARD
TZOFFSETFROM:-0400
TZOFFSETTO:-0500
TZNAME:EST
DTSTART:20231105T060000
END:STANDARD
BEGIN:DAYLIGHT
TZOFFSETFROM:-0500
TZOFFSETTO:-0400
TZNAME:EDT
DTSTART:20240310T070000
END:DAYLIGHT
BEGIN:STANDARD
TZOFFSETFROM:-0400
TZOFFSETTO:-0500
TZNAME:EST
DTSTART:20241103T060000
END:STANDARD
BEGIN:DAYLIGHT
TZOFFSETFROM:-0500
TZOFFSETTO:-0400
TZNAME:EDT
DTSTART:20250309T070000
END:DAYLIGHT
BEGIN:STANDARD
TZOFFSETFROM:-0400
TZOFFSETTO:-0500
TZNAME:EST
DTSTART:20251102T060000
END:STANDARD
END:VTIMEZONE
BEGIN:VEVENT
DTSTART;TZID=America/New_York:20240202T140000
DTEND;TZID=America/New_York:20240202T170000
DTSTAMP:20260425T065540
CREATED:20240108T144443Z
LAST-MODIFIED:20240108T144443Z
UID:43487-1706882400-1706893200@scknittingguild.com
SUMMARY:Sequence Knitting #2
DESCRIPTION:Instructor: Carolyn Freshour
URL:https://scknittingguild.com/index.php/event/sequence-knitting-2/
CATEGORIES:KnitInn,KnitInn Class
ATTACH;FMTTYPE=image/png:https://scknittingguild.com/wp-content/uploads/2023/10/sequence.png
END:VEVENT
BEGIN:VEVENT
DTSTART;TZID=America/New_York:20240202T140000
DTEND;TZID=America/New_York:20240202T170000
DTSTAMP:20260425T065540
CREATED:20231009T181751Z
LAST-MODIFIED:20240108T144858Z
UID:43138-1706882400-1706893200@scknittingguild.com
SUMMARY:Ten Stitch Zigzag Scarf
DESCRIPTION:Instructor: Susan Ericson-West
URL:https://scknittingguild.com/index.php/event/ten-stitch-zigzag-scarf/
CATEGORIES:KnitInn,KnitInn Class
END:VEVENT
BEGIN:VEVENT
DTSTART;TZID=America/New_York:20240202T140000
DTEND;TZID=America/New_York:20240202T170000
DTSTAMP:20260425T065540
CREATED:20231007T143432Z
LAST-MODIFIED:20231007T143432Z
UID:43065-1706882400-1706893200@scknittingguild.com
SUMMARY:Simple Ankle Socks
DESCRIPTION:Instructors: Joanna Chantemerle & Toni Malone
URL:https://scknittingguild.com/index.php/event/simple-ankle-socks-2/
CATEGORIES:KnitInn,KnitInn Class
ATTACH;FMTTYPE=image/jpeg:https://scknittingguild.com/wp-content/uploads/2022/10/Simple-Ankle-Socks-v2.jpg
END:VEVENT
BEGIN:VEVENT
DTSTART;TZID=America/New_York:20240202T140000
DTEND;TZID=America/New_York:20240202T170000
DTSTAMP:20260425T065540
CREATED:20231007T141530Z
LAST-MODIFIED:20231007T141530Z
UID:43023-1706882400-1706893200@scknittingguild.com
SUMMARY:A SAMPLING OF SOCK HEELS
DESCRIPTION:Instructor: Heather Storta
URL:https://scknittingguild.com/index.php/event/a-sampling-of-sock-heels/
CATEGORIES:KnitInn,KnitInn Class
ATTACH;FMTTYPE=image/jpeg:https://scknittingguild.com/wp-content/uploads/2023/10/Sock-Heels.jpg
END:VEVENT
BEGIN:VEVENT
DTSTART;TZID=America/New_York:20240202T140000
DTEND;TZID=America/New_York:20240202T163000
DTSTAMP:20260425T065540
CREATED:20231007T152402Z
LAST-MODIFIED:20231007T152411Z
UID:43094-1706882400-1706891400@scknittingguild.com
SUMMARY:Notions or Trinket Basket
DESCRIPTION:Instructor: Sharon Swede
URL:https://scknittingguild.com/index.php/event/notions-or-trinket-basket/
CATEGORIES:KnitInn,KnitInn Class
ATTACH;FMTTYPE=image/jpeg:https://scknittingguild.com/wp-content/uploads/2023/10/image2-rotated.jpeg
END:VEVENT
BEGIN:VEVENT
DTSTART;TZID=America/New_York:20240202T113000
DTEND;TZID=America/New_York:20240202T120000
DTSTAMP:20260425T065540
CREATED:20231007T142845Z
LAST-MODIFIED:20240108T144904Z
UID:43047-1706873400-1706875200@scknittingguild.com
SUMMARY:Chair Yoga for Fiber Artists
DESCRIPTION:Instructor: Anne Watson\nOffered Friday and Saturday 11:30am and 4:30pm
URL:https://scknittingguild.com/index.php/event/chair-yoga-for-fiber-artists-4/
CATEGORIES:KnitInn,KnitInn Class
END:VEVENT
BEGIN:VEVENT
DTSTART;TZID=America/New_York:20240202T090000
DTEND;TZID=America/New_York:20240202T120000
DTSTAMP:20260425T065540
CREATED:20231007T150641Z
LAST-MODIFIED:20231007T150641Z
UID:43115-1706864400-1706875200@scknittingguild.com
SUMMARY:Mosaic Scarf
DESCRIPTION:Instructor: Carolyn Freshour
URL:https://scknittingguild.com/index.php/event/mosaic-scarf/
CATEGORIES:KnitInn,KnitInn Class
ATTACH;FMTTYPE=image/png:https://scknittingguild.com/wp-content/uploads/2023/10/mosaic.png
END:VEVENT
BEGIN:VEVENT
DTSTART;TZID=America/New_York:20240202T090000
DTEND;TZID=America/New_York:20240202T120000
DTSTAMP:20260425T065540
CREATED:20231007T144007Z
LAST-MODIFIED:20231007T144007Z
UID:43090-1706864400-1706875200@scknittingguild.com
SUMMARY:Double Knitting
DESCRIPTION:Instructor: Nancy Zeigler
URL:https://scknittingguild.com/index.php/event/double-knitting/
CATEGORIES:KnitInn,KnitInn Class
ATTACH;FMTTYPE=image/jpeg:https://scknittingguild.com/wp-content/uploads/2023/10/10052317052-scaled.jpg
END:VEVENT
BEGIN:VEVENT
DTSTART;TZID=America/New_York:20240202T090000
DTEND;TZID=America/New_York:20240202T120000
DTSTAMP:20260425T065540
CREATED:20231003T184613Z
LAST-MODIFIED:20231007T141347Z
UID:43019-1706864400-1706875200@scknittingguild.com
SUMMARY:CONQUERING CABLES
DESCRIPTION:Instructor: Heather Storta
URL:https://scknittingguild.com/index.php/event/conquering-cables/
CATEGORIES:KnitInn,KnitInn Class
ATTACH;FMTTYPE=image/jpeg:https://scknittingguild.com/wp-content/uploads/2023/10/Conquering-Cables.jpg
END:VEVENT
BEGIN:VEVENT
DTSTART;TZID=America/New_York:20240202T090000
DTEND;TZID=America/New_York:20240202T110000
DTSTAMP:20260425T065540
CREATED:20231007T143153Z
LAST-MODIFIED:20231009T134411Z
UID:43057-1706864400-1706871600@scknittingguild.com
SUMMARY:Beginning Brioche
DESCRIPTION:Instructor: Sara Baldwin
URL:https://scknittingguild.com/index.php/event/beginning-brioche/
CATEGORIES:KnitInn,KnitInn Class
ATTACH;FMTTYPE=image/jpeg:https://scknittingguild.com/wp-content/uploads/2023/10/rodekool-001.jpg
END:VEVENT
BEGIN:VEVENT
DTSTART;TZID=America/New_York:20240201T190000
DTEND;TZID=America/New_York:20240201T210000
DTSTAMP:20260425T065540
CREATED:20231003T150114Z
LAST-MODIFIED:20231007T141159Z
UID:43015-1706814000-1706821200@scknittingguild.com
SUMMARY:MEET & GREET with Heather Storta
DESCRIPTION:
URL:https://scknittingguild.com/index.php/event/meet-greet-with-heather-storta/
CATEGORIES:KnitInn
ATTACH;FMTTYPE=image/jpeg:https://scknittingguild.com/wp-content/uploads/2023/08/HStorta.jpeg
END:VEVENT
BEGIN:VEVENT
DTSTART;TZID=America/New_York:20230205T090000
DTEND;TZID=America/New_York:20230205T120000
DTSTAMP:20260425T065540
CREATED:20221023T151537Z
LAST-MODIFIED:20221023T151537Z
UID:42387-1675587600-1675598400@scknittingguild.com
SUMMARY:Advanced Brioche
DESCRIPTION:Instructor: Krista Jameson
URL:https://scknittingguild.com/index.php/event/advanced-brioche/
CATEGORIES:KnitInn,KnitInn Class
END:VEVENT
BEGIN:VEVENT
DTSTART;TZID=America/New_York:20230205T090000
DTEND;TZID=America/New_York:20230205T120000
DTSTAMP:20260425T065540
CREATED:20221023T151402Z
LAST-MODIFIED:20221023T152249Z
UID:42385-1675587600-1675598400@scknittingguild.com
SUMMARY:Shawl Pin Based on Dorset Button
DESCRIPTION:Instructor: Sharon Swede
URL:https://scknittingguild.com/index.php/event/shawl-pin-based-on-dorset-button/
CATEGORIES:KnitInn,KnitInn Class
ATTACH;FMTTYPE=image/jpeg:https://scknittingguild.com/wp-content/uploads/2022/09/Dorset-Button-Shawl-pins.jpg
END:VEVENT
BEGIN:VEVENT
DTSTART;TZID=America/New_York:20230205T090000
DTEND;TZID=America/New_York:20230205T120000
DTSTAMP:20260425T065540
CREATED:20221023T151224Z
LAST-MODIFIED:20221023T152304Z
UID:42382-1675587600-1675598400@scknittingguild.com
SUMMARY:ADVANCED KNITTING FIXES
DESCRIPTION:Instructor: Patty Lyons
URL:https://scknittingguild.com/index.php/event/advanced-knitting-fixes/
CATEGORIES:KnitInn,KnitInn Class
ATTACH;FMTTYPE=image/png:https://scknittingguild.com/wp-content/uploads/2022/09/Advanced-Knitting-Fixes.png
END:VEVENT
BEGIN:VEVENT
DTSTART;TZID=America/New_York:20230205T090000
DTEND;TZID=America/New_York:20230205T113000
DTSTAMP:20260425T065540
CREATED:20221107T183418Z
LAST-MODIFIED:20221107T183418Z
UID:42572-1675587600-1675596600@scknittingguild.com
SUMMARY:Lucet
DESCRIPTION:
URL:https://scknittingguild.com/index.php/event/lucet-2/
ATTACH;FMTTYPE=image/jpeg:https://scknittingguild.com/wp-content/uploads/2022/09/20210915_115846-v2.jpg
END:VEVENT
BEGIN:VEVENT
DTSTART;TZID=America/New_York:20230204T163000
DTEND;TZID=America/New_York:20230204T170000
DTSTAMP:20260425T065540
CREATED:20221024T215633Z
LAST-MODIFIED:20221024T215633Z
UID:42426-1675528200-1675530000@scknittingguild.com
SUMMARY:Yoga for Makers & Crafters
DESCRIPTION:Instructor: Jennifer Chisam; Offered Friday and Saturday 11:30am and 4:30pm
URL:https://scknittingguild.com/index.php/event/yoga-for-makers-crafters-4/
CATEGORIES:KnitInn,KnitInn Class
END:VEVENT
BEGIN:VEVENT
DTSTART;TZID=America/New_York:20230204T140000
DTEND;TZID=America/New_York:20230204T170000
DTSTAMP:20260425T065540
CREATED:20221023T151119Z
LAST-MODIFIED:20221023T152319Z
UID:42380-1675519200-1675530000@scknittingguild.com
SUMMARY:Knitting with Beads
DESCRIPTION:Instructor: Lisa Lamb
URL:https://scknittingguild.com/index.php/event/knitting-with-beads/
CATEGORIES:KnitInn,KnitInn Class
ATTACH;FMTTYPE=image/jpeg:https://scknittingguild.com/wp-content/uploads/2022/10/Resized_20221002_210128.jpeg
END:VEVENT
BEGIN:VEVENT
DTSTART;TZID=America/New_York:20230204T140000
DTEND;TZID=America/New_York:20230204T170000
DTSTAMP:20260425T065540
CREATED:20221023T151001Z
LAST-MODIFIED:20221023T151001Z
UID:42378-1675519200-1675530000@scknittingguild.com
SUMMARY:Entrelac
DESCRIPTION:
URL:https://scknittingguild.com/index.php/event/entrelac/
CATEGORIES:KnitInn,KnitInn Class
END:VEVENT
BEGIN:VEVENT
DTSTART;TZID=America/New_York:20230204T140000
DTEND;TZID=America/New_York:20230204T170000
DTSTAMP:20260425T065540
CREATED:20221023T150530Z
LAST-MODIFIED:20221023T152351Z
UID:42372-1675519200-1675530000@scknittingguild.com
SUMMARY:PROFESSIONAL POLISH
DESCRIPTION:Instructor: Patty Lyons
URL:https://scknittingguild.com/index.php/event/professional-polish/
CATEGORIES:KnitInn,KnitInn Class
ATTACH;FMTTYPE=image/jpeg:https://scknittingguild.com/wp-content/uploads/2022/09/Professional-Polish-copy.jpg
END:VEVENT
BEGIN:VEVENT
DTSTART;TZID=America/New_York:20230204T140000
DTEND;TZID=America/New_York:20230204T160000
DTSTAMP:20260425T065540
CREATED:20221023T151701Z
LAST-MODIFIED:20221025T213613Z
UID:42389-1675519200-1675526400@scknittingguild.com
SUMMARY:Continental Knitting
DESCRIPTION:Instructor: Jennifer Clinton
URL:https://scknittingguild.com/index.php/event/continental-knitting/
CATEGORIES:KnitInn,KnitInn Class
ATTACH;FMTTYPE=image/jpeg:https://scknittingguild.com/wp-content/uploads/2022/10/Continental.jpg
END:VEVENT
BEGIN:VEVENT
DTSTART;TZID=America/New_York:20230204T140000
DTEND;TZID=America/New_York:20230204T160000
DTSTAMP:20260425T065540
CREATED:20221023T150834Z
LAST-MODIFIED:20221023T152408Z
UID:42376-1675519200-1675526400@scknittingguild.com
SUMMARY:Yarn and Yarn Substitution
DESCRIPTION:Instructor: Judy Rising
URL:https://scknittingguild.com/index.php/event/yarn-and-yarn-substitution/
CATEGORIES:KnitInn,KnitInn Class
ATTACH;FMTTYPE=image/jpeg:https://scknittingguild.com/wp-content/uploads/2022/09/IMG_3019-rotated.jpg
END:VEVENT
BEGIN:VEVENT
DTSTART;TZID=America/New_York:20230204T113000
DTEND;TZID=America/New_York:20230204T120000
DTSTAMP:20260425T065540
CREATED:20221024T215445Z
LAST-MODIFIED:20221024T215445Z
UID:42424-1675510200-1675512000@scknittingguild.com
SUMMARY:Yoga for Makers & Crafters
DESCRIPTION:Instructor: Jennifer Chisam; Offered Friday and Saturday at 11:30am and 4:30pm
URL:https://scknittingguild.com/index.php/event/yoga-for-makers-crafters-3/
CATEGORIES:KnitInn,KnitInn Class
ATTACH;FMTTYPE=image/png:https://scknittingguild.com/wp-content/uploads/2022/10/yoga.png
END:VEVENT
BEGIN:VEVENT
DTSTART;TZID=America/New_York:20230204T090000
DTEND;TZID=America/New_York:20230204T120000
DTSTAMP:20260425T065540
CREATED:20221023T150702Z
LAST-MODIFIED:20221025T213355Z
UID:42374-1675501200-1675512000@scknittingguild.com
SUMMARY:Easy Reversible Cables
DESCRIPTION:Instructor: Jolie Elder
URL:https://scknittingguild.com/index.php/event/easy-reversible-cables/
CATEGORIES:KnitInn,KnitInn Class
ATTACH;FMTTYPE=image/jpeg:https://scknittingguild.com/wp-content/uploads/2022/10/3-types-of-reversible-honeycomb.jpg
END:VEVENT
BEGIN:VEVENT
DTSTART;TZID=America/New_York:20230204T090000
DTEND;TZID=America/New_York:20230204T120000
DTSTAMP:20260425T065540
CREATED:20221023T150421Z
LAST-MODIFIED:20221023T152422Z
UID:42369-1675501200-1675512000@scknittingguild.com
SUMMARY:Mosaic Knitting
DESCRIPTION:Instructor: Suzie Ericson-West
URL:https://scknittingguild.com/index.php/event/mosaic-knitting/
CATEGORIES:KnitInn,KnitInn Class
ATTACH;FMTTYPE=image/jpeg:https://scknittingguild.com/wp-content/uploads/2022/10/mosaic-stitch-beanie-2.jpg
END:VEVENT
BEGIN:VEVENT
DTSTART;TZID=America/New_York:20230204T090000
DTEND;TZID=America/New_York:20230204T120000
DTSTAMP:20260425T065540
CREATED:20221023T145259Z
LAST-MODIFIED:20221023T145259Z
UID:42365-1675501200-1675512000@scknittingguild.com
SUMMARY:Short Rows
DESCRIPTION:Instructor: Krista Jameson
URL:https://scknittingguild.com/index.php/event/short-rows-2/
CATEGORIES:KnitInn,KnitInn Class
END:VEVENT
BEGIN:VEVENT
DTSTART;TZID=America/New_York:20230204T090000
DTEND;TZID=America/New_York:20230204T120000
DTSTAMP:20260425T065540
CREATED:20221023T145048Z
LAST-MODIFIED:20221023T152458Z
UID:42363-1675501200-1675512000@scknittingguild.com
SUMMARY:CIRCULAR BAG OF TRICKS
DESCRIPTION:Instructor: Patty Lyons
URL:https://scknittingguild.com/index.php/event/circular-bag-of-tricks/
CATEGORIES:KnitInn,KnitInn Class
ATTACH;FMTTYPE=image/png:https://scknittingguild.com/wp-content/uploads/2022/09/Circular-Pattys-Knitting-Bag-of-Tricks.png
END:VEVENT
BEGIN:VEVENT
DTSTART;TZID=America/New_York:20230204T090000
DTEND;TZID=America/New_York:20230204T110000
DTSTAMP:20260425T065540
CREATED:20221023T150227Z
LAST-MODIFIED:20221029T130731Z
UID:42367-1675501200-1675508400@scknittingguild.com
SUMMARY:Assigned Pooling
DESCRIPTION:Instructor: Cathi Munley
URL:https://scknittingguild.com/index.php/event/assigned-pooling/
CATEGORIES:KnitInn,KnitInn Class
ATTACH;FMTTYPE=image/jpeg:https://scknittingguild.com/wp-content/uploads/2022/10/Assigned-Pooling.jpg
END:VEVENT
BEGIN:VEVENT
DTSTART;TZID=America/New_York:20230203T163000
DTEND;TZID=America/New_York:20230203T170000
DTSTAMP:20260425T065540
CREATED:20221024T215215Z
LAST-MODIFIED:20221024T215244Z
UID:42420-1675441800-1675443600@scknittingguild.com
SUMMARY:Yoga for Makers & Crafters
DESCRIPTION:Instructor: Jennifer Chisam; Offered Friday and Saturday at 11:30am and 4:30pm
URL:https://scknittingguild.com/index.php/event/yoga-for-makers-crafters-2/
CATEGORIES:KnitInn,KnitInn Class
ATTACH;FMTTYPE=image/png:https://scknittingguild.com/wp-content/uploads/2022/10/yoga.png
END:VEVENT
BEGIN:VEVENT
DTSTART;TZID=America/New_York:20230203T140000
DTEND;TZID=America/New_York:20230203T170000
DTSTAMP:20260425T065540
CREATED:20221023T144215Z
LAST-MODIFIED:20221023T152510Z
UID:42359-1675432800-1675443600@scknittingguild.com
SUMMARY:Simple Ankle Socks
DESCRIPTION:Instructor: Joanna Chantemerle & Toni Malone
URL:https://scknittingguild.com/index.php/event/simple-ankle-socks/
CATEGORIES:KnitInn,KnitInn Class
ATTACH;FMTTYPE=image/jpeg:https://scknittingguild.com/wp-content/uploads/2022/10/Simple-Ankle-Socks-v2.jpg
END:VEVENT
BEGIN:VEVENT
DTSTART;TZID=America/New_York:20230203T140000
DTEND;TZID=America/New_York:20230203T170000
DTSTAMP:20260425T065540
CREATED:20221023T143758Z
LAST-MODIFIED:20221023T152522Z
UID:42357-1675432800-1675443600@scknittingguild.com
SUMMARY:Royal Pom Tassel
DESCRIPTION:Instructor: Jennifer Clinton
URL:https://scknittingguild.com/index.php/event/royal-pom-tassel/
CATEGORIES:KnitInn,KnitInn Class
ATTACH;FMTTYPE=image/jpeg:https://scknittingguild.com/wp-content/uploads/2022/10/PomTassel2.jpg
END:VEVENT
END:VCALENDAR