BEGIN:VCALENDAR
VERSION:2.0
PRODID:-//SCKG - ECPv6.15.20//NONSGML v1.0//EN
CALSCALE:GREGORIAN
METHOD:PUBLISH
X-WR-CALNAME:SCKG
X-ORIGINAL-URL:https://scknittingguild.com
X-WR-CALDESC:Events for SCKG
REFRESH-INTERVAL;VALUE=DURATION:PT1H
X-Robots-Tag:noindex
X-PUBLISHED-TTL:PT1H
BEGIN:VTIMEZONE
TZID:America/New_York
BEGIN:DAYLIGHT
TZOFFSETFROM:-0500
TZOFFSETTO:-0400
TZNAME:EDT
DTSTART:20230312T070000
END:DAYLIGHT
BEGIN:STANDARD
TZOFFSETFROM:-0400
TZOFFSETTO:-0500
TZNAME:EST
DTSTART:20231105T060000
END:STANDARD
BEGIN:DAYLIGHT
TZOFFSETFROM:-0500
TZOFFSETTO:-0400
TZNAME:EDT
DTSTART:20240310T070000
END:DAYLIGHT
BEGIN:STANDARD
TZOFFSETFROM:-0400
TZOFFSETTO:-0500
TZNAME:EST
DTSTART:20241103T060000
END:STANDARD
BEGIN:DAYLIGHT
TZOFFSETFROM:-0500
TZOFFSETTO:-0400
TZNAME:EDT
DTSTART:20250309T070000
END:DAYLIGHT
BEGIN:STANDARD
TZOFFSETFROM:-0400
TZOFFSETTO:-0500
TZNAME:EST
DTSTART:20251102T060000
END:STANDARD
BEGIN:DAYLIGHT
TZOFFSETFROM:-0500
TZOFFSETTO:-0400
TZNAME:EDT
DTSTART:20260308T070000
END:DAYLIGHT
BEGIN:STANDARD
TZOFFSETFROM:-0400
TZOFFSETTO:-0500
TZNAME:EST
DTSTART:20261101T060000
END:STANDARD
END:VTIMEZONE
BEGIN:VEVENT
DTSTART;TZID=America/New_York:20250130T190000
DTEND;TZID=America/New_York:20250130T203000
DTSTAMP:20260425T065402
CREATED:20241018T154616Z
LAST-MODIFIED:20241025T202051Z
UID:43950-1738263600-1738269000@scknittingguild.com
SUMMARY:MEET & GREET with Tanis Gray
DESCRIPTION:
URL:https://scknittingguild.com/index.php/event/meet-greet-with-tanis-gray/
CATEGORIES:KnitInn
ATTACH;FMTTYPE=image/jpeg:https://scknittingguild.com/wp-content/uploads/2024/10/TanisGray_7.jpg
END:VEVENT
BEGIN:VEVENT
DTSTART;TZID=America/New_York:20240914T090000
DTEND;TZID=America/New_York:20240914T120000
DTSTAMP:20260425T065402
CREATED:20240530T193424Z
LAST-MODIFIED:20240530T193630Z
UID:43671-1726304400-1726315200@scknittingguild.com
SUMMARY:Mosaic Dishcloth with Mimi
DESCRIPTION:Join us as Mimi Kezer explores simple mosaic colorwork; Zoom only – no in person available.
URL:https://scknittingguild.com/index.php/event/mosaic-dishcloth-with-mimi/
ATTACH;FMTTYPE=image/jpeg:https://scknittingguild.com/wp-content/uploads/2024/05/Mosaic-Dishcloth.jpg
END:VEVENT
BEGIN:VEVENT
DTSTART;TZID=America/New_York:20240615T090000
DTEND;TZID=America/New_York:20240615T120000
DTSTAMP:20260425T065402
CREATED:20240502T232857Z
LAST-MODIFIED:20240530T194043Z
UID:43661-1718442000-1718452800@scknittingguild.com
SUMMARY:Advanced Brioche Workshop
DESCRIPTION:Blooming Brioche KAL with Katherine; TR Library
URL:https://scknittingguild.com/index.php/event/advanced-brioche-workshop-3/
ATTACH;FMTTYPE=image/jpeg:https://scknittingguild.com/wp-content/uploads/2024/03/20220117_100756_medium2.jpg
END:VEVENT
BEGIN:VEVENT
DTSTART;TZID=America/New_York:20240610T184500
DTEND;TZID=America/New_York:20240610T203000
DTSTAMP:20260425T065402
CREATED:20240307T232834Z
LAST-MODIFIED:20240307T232834Z
UID:43618-1718045100-1718051400@scknittingguild.com
SUMMARY:June Guild Meeting
DESCRIPTION:Program: Elections
URL:https://scknittingguild.com/index.php/event/june-guild-meeting/
LOCATION:Camperdown Academy\, Greenville\, South Carolina\, United States
END:VEVENT
BEGIN:VEVENT
DTSTART;TZID=America/New_York:20240606T190000
DTEND;TZID=America/New_York:20240606T200000
DTSTAMP:20260425T065402
CREATED:20240530T194319Z
LAST-MODIFIED:20240530T194319Z
UID:43677-1717700400-1717704000@scknittingguild.com
SUMMARY:SCKG Board Meeting
DESCRIPTION:
URL:https://scknittingguild.com/index.php/event/sckg-board-meeting/
END:VEVENT
BEGIN:VEVENT
DTSTART;TZID=America/New_York:20240601T090000
DTEND;TZID=America/New_York:20240601T120000
DTSTAMP:20260425T065402
CREATED:20240502T232814Z
LAST-MODIFIED:20240530T193911Z
UID:43659-1717232400-1717243200@scknittingguild.com
SUMMARY:Advanced Brioche Workshop
DESCRIPTION:Blooming Brioche KAL with Katherine; TR Library
URL:https://scknittingguild.com/index.php/event/advanced-brioche-workshop-2/
ATTACH;FMTTYPE=image/jpeg:https://scknittingguild.com/wp-content/uploads/2024/03/20220117_100756_medium2.jpg
END:VEVENT
BEGIN:VEVENT
DTSTART;TZID=America/New_York:20240518T090000
DTEND;TZID=America/New_York:20240518T120000
DTSTAMP:20260425T065402
CREATED:20240502T232742Z
LAST-MODIFIED:20240502T232742Z
UID:43657-1716022800-1716033600@scknittingguild.com
SUMMARY:Advanced Brioche Workshop
DESCRIPTION:
URL:https://scknittingguild.com/index.php/event/advanced-brioche-workshop/
END:VEVENT
BEGIN:VEVENT
DTSTART;TZID=America/New_York:20240513T184500
DTEND;TZID=America/New_York:20240513T203000
DTSTAMP:20260425T065402
CREATED:20240307T232713Z
LAST-MODIFIED:20240307T232713Z
UID:43616-1715625900-1715632200@scknittingguild.com
SUMMARY:May Guild Meeting
DESCRIPTION:Program: Swatching with Katherine
URL:https://scknittingguild.com/index.php/event/may-guild-meeting-2/
LOCATION:Camperdown Academy\, Greenville\, South Carolina\, United States
CATEGORIES:Meeting Programs
END:VEVENT
BEGIN:VEVENT
DTSTART;TZID=America/New_York:20240408T184500
DTEND;TZID=America/New_York:20240408T203000
DTSTAMP:20260425T065402
CREATED:20240307T232608Z
LAST-MODIFIED:20240307T232615Z
UID:43614-1712601900-1712608200@scknittingguild.com
SUMMARY:April Guild Meeting
DESCRIPTION:Program: Mitered Squares with Cathi Munley
URL:https://scknittingguild.com/index.php/event/april-guild-meeting/
LOCATION:Camperdown Academy\, Greenville\, South Carolina\, United States
CATEGORIES:Meeting Programs
END:VEVENT
BEGIN:VEVENT
DTSTART;TZID=America/New_York:20240311T184500
DTEND;TZID=America/New_York:20240311T203000
DTSTAMP:20260425T065402
CREATED:20240302T133638Z
LAST-MODIFIED:20240307T232443Z
UID:43595-1710182700-1710189000@scknittingguild.com
SUMMARY:March Monthly Meeting
DESCRIPTION:Program: Socks with Pat
URL:https://scknittingguild.com/index.php/event/march-monthly-meeting/
LOCATION:Camperdown Academy\, Greenville\, South Carolina\, United States
CATEGORIES:Meeting Programs
END:VEVENT
BEGIN:VEVENT
DTSTART;TZID=America/New_York:20240204T090000
DTEND;TZID=America/New_York:20240204T120000
DTSTAMP:20260425T065402
CREATED:20240101T182042Z
LAST-MODIFIED:20240108T144157Z
UID:43448-1707037200-1707048000@scknittingguild.com
SUMMARY:Felted Sheep #2
DESCRIPTION:Instructor: Linda Dooley
URL:https://scknittingguild.com/index.php/event/felted-sheet-2/
CATEGORIES:KnitInn,KnitInn Class
ATTACH;FMTTYPE=image/jpeg:https://scknittingguild.com/wp-content/uploads/2023/10/IMG_3856-rotated.jpg
END:VEVENT
BEGIN:VEVENT
DTSTART;TZID=America/New_York:20240204T090000
DTEND;TZID=America/New_York:20240204T120000
DTSTAMP:20260425T065402
CREATED:20231009T194308Z
LAST-MODIFIED:20231009T194317Z
UID:43149-1707037200-1707048000@scknittingguild.com
SUMMARY:Zwirnknopf Buttons
DESCRIPTION:Instructor: Donna Boylan
URL:https://scknittingguild.com/index.php/event/zwirnknopf-buttons/
CATEGORIES:KnitInn,KnitInn Class
ATTACH;FMTTYPE=image/jpeg:https://scknittingguild.com/wp-content/uploads/2023/10/buttons-2.jpg
END:VEVENT
BEGIN:VEVENT
DTSTART;TZID=America/New_York:20240204T090000
DTEND;TZID=America/New_York:20240204T120000
DTSTAMP:20260425T065402
CREATED:20231007T143254Z
LAST-MODIFIED:20231007T143254Z
UID:43061-1707037200-1707048000@scknittingguild.com
SUMMARY:Basic Sock Construction
DESCRIPTION:Instructor: Sara Baldwin
URL:https://scknittingguild.com/index.php/event/basic-sock-construction/
CATEGORIES:KnitInn,KnitInn Class
ATTACH;FMTTYPE=image/jpeg:https://scknittingguild.com/wp-content/uploads/2023/10/32-st-baby-socks.jpg
END:VEVENT
BEGIN:VEVENT
DTSTART;TZID=America/New_York:20240204T090000
DTEND;TZID=America/New_York:20240204T120000
DTSTAMP:20260425T065402
CREATED:20231007T141846Z
LAST-MODIFIED:20231007T141846Z
UID:43036-1707037200-1707048000@scknittingguild.com
SUMMARY:TISKET TASKET ENTRELAC BASKETS
DESCRIPTION:Instructor: Heather Storta
URL:https://scknittingguild.com/index.php/event/tisket-tasket-entrelac-baskets/
CATEGORIES:KnitInn,KnitInn Class
ATTACH;FMTTYPE=image/jpeg:https://scknittingguild.com/wp-content/uploads/2023/10/Entrelac-Basket.jpg
END:VEVENT
BEGIN:VEVENT
DTSTART;TZID=America/New_York:20240204T090000
DTEND;TZID=America/New_York:20240204T110000
DTSTAMP:20260425T065402
CREATED:20231007T145620Z
LAST-MODIFIED:20231007T145620Z
UID:43075-1707037200-1707044400@scknittingguild.com
SUMMARY:Tunisian Crochet
DESCRIPTION:Instructor: Sati Glenn
URL:https://scknittingguild.com/index.php/event/tunisian-crochet/
CATEGORIES:KnitInn,KnitInn Class
ATTACH;FMTTYPE=image/png:https://scknittingguild.com/wp-content/uploads/2023/10/Screenshot-2023-10-06-10.48.48-AM.png
END:VEVENT
BEGIN:VEVENT
DTSTART;TZID=America/New_York:20240203T163000
DTEND;TZID=America/New_York:20240203T170000
DTSTAMP:20260425T065402
CREATED:20231007T142741Z
LAST-MODIFIED:20231007T142741Z
UID:43054-1706977800-1706979600@scknittingguild.com
SUMMARY:Chair Yoga for Fiber Artists
DESCRIPTION:Instructor: Anne Watson\nOffered Friday and Saturday 11:30am and 4:30pm
URL:https://scknittingguild.com/index.php/event/chair-yoga-for-fiber-artists-2/
CATEGORIES:KnitInn,KnitInn Class
END:VEVENT
BEGIN:VEVENT
DTSTART;TZID=America/New_York:20240203T140000
DTEND;TZID=America/New_York:20240203T170000
DTSTAMP:20260425T065402
CREATED:20231007T144511Z
LAST-MODIFIED:20231007T144511Z
UID:43109-1706968800-1706979600@scknittingguild.com
SUMMARY:Mitered Square
DESCRIPTION:Instructor: Susan Ericson-West
URL:https://scknittingguild.com/index.php/event/mitered-square-2/
CATEGORIES:KnitInn,KnitInn Class
ATTACH;FMTTYPE=image/jpeg:https://scknittingguild.com/wp-content/uploads/2022/10/mitered-square-back.jpg
END:VEVENT
BEGIN:VEVENT
DTSTART;TZID=America/New_York:20240203T140000
DTEND;TZID=America/New_York:20240203T170000
DTSTAMP:20260425T065402
CREATED:20231007T143822Z
LAST-MODIFIED:20231007T143822Z
UID:43086-1706968800-1706979600@scknittingguild.com
SUMMARY:Knitting on Fabric
DESCRIPTION:Instructor: Lisa Lamb
URL:https://scknittingguild.com/index.php/event/knitting-on-fabric/
CATEGORIES:KnitInn,KnitInn Class
ATTACH;FMTTYPE=image/jpeg:https://scknittingguild.com/wp-content/uploads/2022/09/Resized_20221013_215623.jpeg
END:VEVENT
BEGIN:VEVENT
DTSTART;TZID=America/New_York:20240203T140000
DTEND;TZID=America/New_York:20240203T170000
DTSTAMP:20260425T065402
CREATED:20231007T141934Z
LAST-MODIFIED:20231007T141934Z
UID:43039-1706968800-1706979600@scknittingguild.com
SUMMARY:MATCHING CAST ONS AND BIND OFFS
DESCRIPTION:Instructor: Heather Storta
URL:https://scknittingguild.com/index.php/event/matching-cast-ons-and-bind-offs/
CATEGORIES:KnitInn,KnitInn Class
ATTACH;FMTTYPE=image/jpeg:https://scknittingguild.com/wp-content/uploads/2023/10/Matching-Cast-On-and-Bind-Off.jpg
END:VEVENT
BEGIN:VEVENT
DTSTART;TZID=America/New_York:20240203T140000
DTEND;TZID=America/New_York:20240203T163000
DTSTAMP:20260425T065402
CREATED:20231007T153346Z
LAST-MODIFIED:20231007T153346Z
UID:43098-1706968800-1706977800@scknittingguild.com
SUMMARY:Short Row Wave Scarf or Cowl
DESCRIPTION:Instructor: Sharon Swede
URL:https://scknittingguild.com/index.php/event/short-row-wave-scarf-or-cowl/
CATEGORIES:KnitInn,KnitInn Class
ATTACH;FMTTYPE=image/jpeg:https://scknittingguild.com/wp-content/uploads/2023/10/image0-rotated.jpeg
END:VEVENT
BEGIN:VEVENT
DTSTART;TZID=America/New_York:20240203T140000
DTEND;TZID=America/New_York:20240203T160000
DTSTAMP:20260425T065402
CREATED:20240101T174556Z
LAST-MODIFIED:20240108T144137Z
UID:43443-1706968800-1706976000@scknittingguild.com
SUMMARY:Beginning Brioche #2
DESCRIPTION:Instructor: Sara Baldwin
URL:https://scknittingguild.com/index.php/event/beginning-brioche-2/
CATEGORIES:KnitInn,KnitInn Class
ATTACH;FMTTYPE=image/jpeg:https://scknittingguild.com/wp-content/uploads/2023/10/rodekool-001.jpg
END:VEVENT
BEGIN:VEVENT
DTSTART;TZID=America/New_York:20240203T140000
DTEND;TZID=America/New_York:20240203T160000
DTSTAMP:20260425T065402
CREATED:20231010T145953Z
LAST-MODIFIED:20240108T144757Z
UID:43153-1706968800-1706976000@scknittingguild.com
SUMMARY:Norwegian Knit and Purl
DESCRIPTION:Instructor: Judith Rising
URL:https://scknittingguild.com/index.php/event/norwegian-knit-and-purl/
CATEGORIES:KnitInn,KnitInn Class
ATTACH;FMTTYPE=image/jpeg:https://scknittingguild.com/wp-content/uploads/2023/10/IMG_6172.jpg
END:VEVENT
BEGIN:VEVENT
DTSTART;TZID=America/New_York:20240203T113000
DTEND;TZID=America/New_York:20240203T120000
DTSTAMP:20260425T065402
CREATED:20231007T142805Z
LAST-MODIFIED:20231007T142805Z
UID:43052-1706959800-1706961600@scknittingguild.com
SUMMARY:Chair Yoga for Fiber Artists
DESCRIPTION:Instructor: Anne Watson\nOffered Friday and Saturday 11:30am and 4:30pm
URL:https://scknittingguild.com/index.php/event/chair-yoga-for-fiber-artists-3/
CATEGORIES:KnitInn,KnitInn Class
END:VEVENT
BEGIN:VEVENT
DTSTART;TZID=America/New_York:20240203T090000
DTEND;TZID=America/New_York:20240203T120000
DTSTAMP:20260425T065402
CREATED:20231007T155043Z
LAST-MODIFIED:20231007T162403Z
UID:43121-1706950800-1706961600@scknittingguild.com
SUMMARY:Advanced Brioche
DESCRIPTION:Instructor: Katherine Dobrenen
URL:https://scknittingguild.com/index.php/event/advanced-brioche-2/
CATEGORIES:KnitInn,KnitInn Class
ATTACH;FMTTYPE=image/jpeg:https://scknittingguild.com/wp-content/uploads/2023/10/grellove.jpg
END:VEVENT
BEGIN:VEVENT
DTSTART;TZID=America/New_York:20240203T090000
DTEND;TZID=America/New_York:20240203T120000
DTSTAMP:20260425T065402
CREATED:20231007T152807Z
LAST-MODIFIED:20231007T152833Z
UID:43118-1706950800-1706961600@scknittingguild.com
SUMMARY:Sequence Knitting
DESCRIPTION:Instructor: Carolyn Freshour
URL:https://scknittingguild.com/index.php/event/sequence-knitting/
CATEGORIES:KnitInn,KnitInn Class
ATTACH;FMTTYPE=image/png:https://scknittingguild.com/wp-content/uploads/2023/10/sequence.png
END:VEVENT
BEGIN:VEVENT
DTSTART;TZID=America/New_York:20240203T090000
DTEND;TZID=America/New_York:20240203T120000
DTSTAMP:20260425T065402
CREATED:20231007T143625Z
LAST-MODIFIED:20231007T143625Z
UID:43081-1706950800-1706961600@scknittingguild.com
SUMMARY:Felted Sheep
DESCRIPTION:Instructor: Linda Dooley
URL:https://scknittingguild.com/index.php/event/felted-sheep/
CATEGORIES:KnitInn,KnitInn Class
ATTACH;FMTTYPE=image/jpeg:https://scknittingguild.com/wp-content/uploads/2023/10/IMG_3858-rotated.jpg
END:VEVENT
BEGIN:VEVENT
DTSTART;TZID=America/New_York:20240203T090000
DTEND;TZID=America/New_York:20240203T120000
DTSTAMP:20260425T065402
CREATED:20231007T141746Z
LAST-MODIFIED:20231007T141746Z
UID:43031-1706950800-1706961600@scknittingguild.com
SUMMARY:ESTONIAN DECORATIVE STITCHES
DESCRIPTION:Instructor: Heather Storta
URL:https://scknittingguild.com/index.php/event/estonian-decorative-stitches/
CATEGORIES:KnitInn,KnitInn Class
ATTACH;FMTTYPE=image/jpeg:https://scknittingguild.com/wp-content/uploads/2023/10/Estonian-Stitches.jpg
END:VEVENT
BEGIN:VEVENT
DTSTART;TZID=America/New_York:20240203T090000
DTEND;TZID=America/New_York:20240203T110000
DTSTAMP:20260425T065402
CREATED:20240108T144653Z
LAST-MODIFIED:20240108T144703Z
UID:43489-1706950800-1706958000@scknittingguild.com
SUMMARY:Norwegian Knit and Purl #2
DESCRIPTION:Instructor: Judy Rising
URL:https://scknittingguild.com/index.php/event/norwegian-knit-and-purl-2/
CATEGORIES:KnitInn,KnitInn Class
ATTACH;FMTTYPE=image/jpeg:https://scknittingguild.com/wp-content/uploads/2023/10/IMG_6171-rotated.jpg
END:VEVENT
BEGIN:VEVENT
DTSTART;TZID=America/New_York:20240202T173000
DTEND;TZID=America/New_York:20240202T190000
DTSTAMP:20260425T065402
CREATED:20231011T202254Z
LAST-MODIFIED:20240128T180418Z
UID:43172-1706895000-1706900400@scknittingguild.com
SUMMARY:KnitInn Dinner
DESCRIPTION:Featuring Medley of Salad\, Beef Bourguignon\, and Brownie Brulé Cheesecake!
URL:https://scknittingguild.com/index.php/event/knitinn-dinner/
CATEGORIES:KnitInn
ATTACH;FMTTYPE=image/jpeg:https://scknittingguild.com/wp-content/uploads/2023/10/Food-4.jpeg
END:VEVENT
BEGIN:VEVENT
DTSTART;TZID=America/New_York:20240202T163000
DTEND;TZID=America/New_York:20240202T170000
DTSTAMP:20260425T065402
CREATED:20231007T142723Z
LAST-MODIFIED:20240108T144834Z
UID:43050-1706891400-1706893200@scknittingguild.com
SUMMARY:Chair Yoga for Fiber Artists
DESCRIPTION:Instructor: Anne Watson\nOffered Friday and Saturday 11:30am and 4:30pm
URL:https://scknittingguild.com/index.php/event/chair-yoga-for-fiber-artists/
CATEGORIES:KnitInn,KnitInn Class
END:VEVENT
END:VCALENDAR