BEGIN:VCALENDAR
VERSION:2.0
PRODID:-//SCKG - ECPv6.15.20//NONSGML v1.0//EN
CALSCALE:GREGORIAN
METHOD:PUBLISH
X-ORIGINAL-URL:https://scknittingguild.com
X-WR-CALDESC:Events for SCKG
REFRESH-INTERVAL;VALUE=DURATION:PT1H
X-Robots-Tag:noindex
X-PUBLISHED-TTL:PT1H
BEGIN:VTIMEZONE
TZID:America/New_York
BEGIN:DAYLIGHT
TZOFFSETFROM:-0500
TZOFFSETTO:-0400
TZNAME:EDT
DTSTART:20250309T070000
END:DAYLIGHT
BEGIN:STANDARD
TZOFFSETFROM:-0400
TZOFFSETTO:-0500
TZNAME:EST
DTSTART:20251102T060000
END:STANDARD
BEGIN:DAYLIGHT
TZOFFSETFROM:-0500
TZOFFSETTO:-0400
TZNAME:EDT
DTSTART:20260308T070000
END:DAYLIGHT
BEGIN:STANDARD
TZOFFSETFROM:-0400
TZOFFSETTO:-0500
TZNAME:EST
DTSTART:20261101T060000
END:STANDARD
BEGIN:DAYLIGHT
TZOFFSETFROM:-0500
TZOFFSETTO:-0400
TZNAME:EDT
DTSTART:20270314T070000
END:DAYLIGHT
BEGIN:STANDARD
TZOFFSETFROM:-0400
TZOFFSETTO:-0500
TZNAME:EST
DTSTART:20271107T060000
END:STANDARD
END:VTIMEZONE
BEGIN:VEVENT
DTSTART;TZID=America/New_York:20260125T090000
DTEND;TZID=America/New_York:20260125T120000
DTSTAMP:20260424T154931
CREATED:20251011T170454Z
LAST-MODIFIED:20251011T170454Z
UID:44960-1769331600-1769342400@scknittingguild.com
SUMMARY:ILLUSIONS IN SHADOWS
DESCRIPTION:
URL:https://scknittingguild.com/index.php/event/illusions-in-shadows/
CATEGORIES:KnitInn,KnitInn Class
ATTACH;FMTTYPE=image/jpeg:https://scknittingguild.com/wp-content/uploads/2025/10/Tiger_Zebra-illusion-blanket-edit.jpg
END:VEVENT
BEGIN:VEVENT
DTSTART;TZID=America/New_York:20260125T090000
DTEND;TZID=America/New_York:20260125T120000
DTSTAMP:20260424T154931
CREATED:20251011T215552Z
LAST-MODIFIED:20251017T213707Z
UID:45027-1769331600-1769342400@scknittingguild.com
SUMMARY:Sock's Anatomy
DESCRIPTION:
URL:https://scknittingguild.com/index.php/event/basic-socks/
CATEGORIES:KnitInn,KnitInn Class
ATTACH;FMTTYPE=image/jpeg:https://scknittingguild.com/wp-content/uploads/2025/10/tinyteachingsocks.jpg
END:VEVENT
BEGIN:VEVENT
DTSTART;TZID=America/New_York:20260125T090000
DTEND;TZID=America/New_York:20260125T120000
DTSTAMP:20260424T154931
CREATED:20251011T220501Z
LAST-MODIFIED:20251013T182952Z
UID:45030-1769331600-1769342400@scknittingguild.com
SUMMARY:Weaving
DESCRIPTION:
URL:https://scknittingguild.com/index.php/event/weaving/
CATEGORIES:KnitInn,KnitInn Class
ATTACH;FMTTYPE=image/jpeg:https://scknittingguild.com/wp-content/uploads/2025/10/KnitInn-WeavingClass.jpg
END:VEVENT
BEGIN:VEVENT
DTSTART;TZID=America/New_York:20260125T090000
DTEND;TZID=America/New_York:20260125T120000
DTSTAMP:20260424T154931
CREATED:20251011T221203Z
LAST-MODIFIED:20251011T222615Z
UID:45034-1769331600-1769342400@scknittingguild.com
SUMMARY:3 hours or less Crochet Bravo! Bag
DESCRIPTION:
URL:https://scknittingguild.com/index.php/event/crochet/
CATEGORIES:KnitInn,KnitInn Class
ATTACH;FMTTYPE=image/jpeg:https://scknittingguild.com/wp-content/uploads/2025/10/bravobag.jpg
END:VEVENT
BEGIN:VEVENT
DTSTART;TZID=America/New_York:20260125T090000
DTEND;TZID=America/New_York:20260125T120000
DTSTAMP:20260424T154931
CREATED:20251011T221354Z
LAST-MODIFIED:20251017T213725Z
UID:45036-1769331600-1769342400@scknittingguild.com
SUMMARY:Needle Felted Wool Beret
DESCRIPTION:
URL:https://scknittingguild.com/index.php/event/needle-felted-wool-beret/
CATEGORIES:KnitInn,KnitInn Class
ATTACH;FMTTYPE=image/jpeg:https://scknittingguild.com/wp-content/uploads/2025/10/1000004561.jpg
END:VEVENT
END:VCALENDAR