BEGIN:VCALENDAR
VERSION:2.0
PRODID:-//SCKG - ECPv6.15.20//NONSGML v1.0//EN
CALSCALE:GREGORIAN
METHOD:PUBLISH
X-WR-CALNAME:SCKG
X-ORIGINAL-URL:https://scknittingguild.com
X-WR-CALDESC:Events for SCKG
REFRESH-INTERVAL;VALUE=DURATION:PT1H
X-Robots-Tag:noindex
X-PUBLISHED-TTL:PT1H
BEGIN:VTIMEZONE
TZID:America/New_York
BEGIN:DAYLIGHT
TZOFFSETFROM:-0500
TZOFFSETTO:-0400
TZNAME:EDT
DTSTART:20240310T070000
END:DAYLIGHT
BEGIN:STANDARD
TZOFFSETFROM:-0400
TZOFFSETTO:-0500
TZNAME:EST
DTSTART:20241103T060000
END:STANDARD
BEGIN:DAYLIGHT
TZOFFSETFROM:-0500
TZOFFSETTO:-0400
TZNAME:EDT
DTSTART:20250309T070000
END:DAYLIGHT
BEGIN:STANDARD
TZOFFSETFROM:-0400
TZOFFSETTO:-0500
TZNAME:EST
DTSTART:20251102T060000
END:STANDARD
BEGIN:DAYLIGHT
TZOFFSETFROM:-0500
TZOFFSETTO:-0400
TZNAME:EDT
DTSTART:20260308T070000
END:DAYLIGHT
BEGIN:STANDARD
TZOFFSETFROM:-0400
TZOFFSETTO:-0500
TZNAME:EST
DTSTART:20261101T060000
END:STANDARD
END:VTIMEZONE
BEGIN:VEVENT
DTSTART;TZID=America/New_York:20250426T130000
DTEND;TZID=America/New_York:20250426T140000
DTSTAMP:20260425T083847
CREATED:20250209T151136Z
LAST-MODIFIED:20250209T151219Z
UID:44630-1745672400-1745676000@scknittingguild.com
SUMMARY:Meet A Designer with Yumiko Alexander
DESCRIPTION:
URL:https://scknittingguild.com/index.php/event/meet-a-designer-with-yumiko-alexander/
ATTACH;FMTTYPE=image/jpeg:https://scknittingguild.com/wp-content/uploads/2025/02/yumi.jpg
END:VEVENT
BEGIN:VEVENT
DTSTART;TZID=America/New_York:20250202T090000
DTEND;TZID=America/New_York:20250202T233000
DTSTAMP:20260425T083847
CREATED:20241018T164445Z
LAST-MODIFIED:20241018T164445Z
UID:43976-1738486800-1738539000@scknittingguild.com
SUMMARY:CABLING WITHOUT A CABLE NEEDLE
DESCRIPTION:Instructor: Tanis Gray
URL:https://scknittingguild.com/index.php/event/cabling-without-a-cable-needle/
CATEGORIES:KnitInn,KnitInn Class
ATTACH;FMTTYPE=image/jpeg:https://scknittingguild.com/wp-content/uploads/2024/10/jump-rope-7.jpeg
END:VEVENT
BEGIN:VEVENT
DTSTART;TZID=America/New_York:20250202T090000
DTEND;TZID=America/New_York:20250202T120000
DTSTAMP:20260425T083847
CREATED:20241019T131711Z
LAST-MODIFIED:20241021T222028Z
UID:44089-1738486800-1738497600@scknittingguild.com
SUMMARY:Intarsia Techniques
DESCRIPTION:Instructor: Sara Baldwin
URL:https://scknittingguild.com/index.php/event/intarsia-techniques/
CATEGORIES:KnitInn,KnitInn Class
ATTACH;FMTTYPE=image/jpeg:https://scknittingguild.com/wp-content/uploads/2024/10/Santa-stocking-2.jpg
END:VEVENT
BEGIN:VEVENT
DTSTART;TZID=America/New_York:20250202T090000
DTEND;TZID=America/New_York:20250202T120000
DTSTAMP:20260425T083847
CREATED:20241019T123943Z
LAST-MODIFIED:20250103T183939Z
UID:44079-1738486800-1738497600@scknittingguild.com
SUMMARY:Dorset Button Shawl Pin
DESCRIPTION:SOLD OUT Instructor: Donna Boylan
URL:https://scknittingguild.com/index.php/event/dorset-button-shawl-pin/
CATEGORIES:KnitInn,KnitInn Class
ATTACH;FMTTYPE=image/jpeg:https://scknittingguild.com/wp-content/uploads/2024/10/IMG_8572-scaled.jpg
END:VEVENT
BEGIN:VEVENT
DTSTART;TZID=America/New_York:20250202T090000
DTEND;TZID=America/New_York:20250202T120000
DTSTAMP:20260425T083847
CREATED:20241018T224141Z
LAST-MODIFIED:20241019T114106Z
UID:44008-1738486800-1738497600@scknittingguild.com
SUMMARY:Advanced Brioche
DESCRIPTION:Instructor: Katherine Dobrenen
URL:https://scknittingguild.com/index.php/event/advanced-brioche-3/
CATEGORIES:KnitInn,KnitInn Class
ATTACH;FMTTYPE=image/jpeg:https://scknittingguild.com/wp-content/uploads/2023/10/grellove.jpg
END:VEVENT
BEGIN:VEVENT
DTSTART;TZID=America/New_York:20250202T090000
DTEND;TZID=America/New_York:20250202T110000
DTSTAMP:20260425T083847
CREATED:20241019T122423Z
LAST-MODIFIED:20250113T205511Z
UID:44070-1738486800-1738494000@scknittingguild.com
SUMMARY:Mosaic Crochet
DESCRIPTION:SOLD OUT Instructor: Sati Glenn
URL:https://scknittingguild.com/index.php/event/mosaic-crochet/
CATEGORIES:KnitInn,KnitInn Class
END:VEVENT
BEGIN:VEVENT
DTSTART;TZID=America/New_York:20250201T163000
DTEND;TZID=America/New_York:20250201T170000
DTSTAMP:20260425T083847
CREATED:20241024T184208Z
LAST-MODIFIED:20241024T184245Z
UID:44148-1738427400-1738429200@scknittingguild.com
SUMMARY:Chair Yoga for Fiber Artists
DESCRIPTION:Instructor: Anne Watson
URL:https://scknittingguild.com/index.php/event/https-scknittingguild-com-index-php-product-chair-yoga-for-fiber-artists/
CATEGORIES:KnitInn,KnitInn Class
ATTACH;FMTTYPE=image/jpeg:https://scknittingguild.com/wp-content/uploads/2023/10/chair-yoga-clipart-22.jpg
END:VEVENT
BEGIN:VEVENT
DTSTART;TZID=America/New_York:20250201T140000
DTEND;TZID=America/New_York:20250201T170000
DTSTAMP:20260425T083847
CREATED:20241019T143758Z
LAST-MODIFIED:20250103T183937Z
UID:44102-1738418400-1738429200@scknittingguild.com
SUMMARY:Beaded Christmas Ornament
DESCRIPTION:SOLD OUT Instructor: Danette Pilgrim
URL:https://scknittingguild.com/index.php/event/beaded-christmas-ornament/
CATEGORIES:KnitInn,KnitInn Class
ATTACH;FMTTYPE=image/jpeg:https://scknittingguild.com/wp-content/uploads/2024/10/IMG_20241019_102814.jpg
END:VEVENT
BEGIN:VEVENT
DTSTART;TZID=America/New_York:20250201T140000
DTEND;TZID=America/New_York:20250201T170000
DTSTAMP:20260425T083847
CREATED:20241019T120922Z
LAST-MODIFIED:20250103T183934Z
UID:44062-1738418400-1738429200@scknittingguild.com
SUMMARY:Sequence Knitting
DESCRIPTION:SOLD OUT Instructor: Carolyn Freshour
URL:https://scknittingguild.com/index.php/event/sequence-knitting-3/
CATEGORIES:KnitInn,KnitInn Class
ATTACH;FMTTYPE=image/png:https://scknittingguild.com/wp-content/uploads/2023/10/sequence.png
END:VEVENT
BEGIN:VEVENT
DTSTART;TZID=America/New_York:20250201T140000
DTEND;TZID=America/New_York:20250201T163000
DTSTAMP:20260425T083847
CREATED:20241019T120506Z
LAST-MODIFIED:20241019T120506Z
UID:44058-1738418400-1738427400@scknittingguild.com
SUMMARY:Italian Summer Scarf
DESCRIPTION:Instructor: Mary Ann Cullen
URL:https://scknittingguild.com/index.php/event/italian-summer-scarf/
CATEGORIES:KnitInn,KnitInn Class
ATTACH;FMTTYPE=image/jpeg:https://scknittingguild.com/wp-content/uploads/2024/10/Italian-Summer-Scarf-pattern-photo.jpeg
END:VEVENT
BEGIN:VEVENT
DTSTART;TZID=America/New_York:20250201T140000
DTEND;TZID=America/New_York:20250201T163000
DTSTAMP:20260425T083847
CREATED:20241018T163518Z
LAST-MODIFIED:20250103T183931Z
UID:43968-1738418400-1738427400@scknittingguild.com
SUMMARY:ESTONIAN INLAY & ESTONIAN BRAIDS
DESCRIPTION:SOLD OUT Instructor: Tanis Gray
URL:https://scknittingguild.com/index.php/event/estonian-inlay-estonian-braids/
CATEGORIES:KnitInn,KnitInn Class
ATTACH;FMTTYPE=image/jpeg:https://scknittingguild.com/wp-content/uploads/2024/10/shortreprise1.jpeg
END:VEVENT
BEGIN:VEVENT
DTSTART;TZID=America/New_York:20250201T140000
DTEND;TZID=America/New_York:20250201T160000
DTSTAMP:20260425T083847
CREATED:20241019T003739Z
LAST-MODIFIED:20241019T003739Z
UID:44021-1738418400-1738425600@scknittingguild.com
SUMMARY:Using Ravelry
DESCRIPTION:Instructor: Laura Tesh
URL:https://scknittingguild.com/index.php/event/using-ravelry/
CATEGORIES:KnitInn,KnitInn Class
END:VEVENT
BEGIN:VEVENT
DTSTART;TZID=America/New_York:20250201T113000
DTEND;TZID=America/New_York:20250201T120000
DTSTAMP:20260425T083847
CREATED:20241024T184132Z
LAST-MODIFIED:20241024T184132Z
UID:44146-1738409400-1738411200@scknittingguild.com
SUMMARY:Chair Yoga for Fiber Artists
DESCRIPTION:Instructor: Anne Watson
URL:https://scknittingguild.com/index.php/event/chair-yoga-for-fiber-artists-7/
CATEGORIES:KnitInn,KnitInn Class
ATTACH;FMTTYPE=image/jpeg:https://scknittingguild.com/wp-content/uploads/2023/10/chair-yoga-clipart-22.jpg
END:VEVENT
BEGIN:VEVENT
DTSTART;TZID=America/New_York:20250201T090000
DTEND;TZID=America/New_York:20250201T120000
DTSTAMP:20260425T083847
CREATED:20241019T232007Z
LAST-MODIFIED:20250103T183928Z
UID:44125-1738400400-1738411200@scknittingguild.com
SUMMARY:Armenian Needle Lace
DESCRIPTION:SOLD OUT Instructor: Lisa Lamb
URL:https://scknittingguild.com/index.php/event/armenian-needle-lace/
CATEGORIES:KnitInn,KnitInn Class
ATTACH;FMTTYPE=image/jpeg:https://scknittingguild.com/wp-content/uploads/2024/10/Armenian-needle-lace-example-small.jpg
END:VEVENT
BEGIN:VEVENT
DTSTART;TZID=America/New_York:20250201T090000
DTEND;TZID=America/New_York:20250201T120000
DTSTAMP:20260425T083847
CREATED:20241019T135014Z
LAST-MODIFIED:20241024T185433Z
UID:44097-1738400400-1738411200@scknittingguild.com
SUMMARY:Felted Teacup Pin Cushion
DESCRIPTION:Instructor: Linda Dooley
URL:https://scknittingguild.com/index.php/event/felted-teacup-pin-cushion/
CATEGORIES:KnitInn,KnitInn Class
ATTACH;FMTTYPE=image/jpeg:https://scknittingguild.com/wp-content/uploads/2024/10/teacup.jpg
END:VEVENT
BEGIN:VEVENT
DTSTART;TZID=America/New_York:20250201T090000
DTEND;TZID=America/New_York:20250201T120000
DTSTAMP:20260425T083847
CREATED:20241019T105605Z
LAST-MODIFIED:20250103T183926Z
UID:44045-1738400400-1738411200@scknittingguild.com
SUMMARY:Helical Knitting
DESCRIPTION:SOLD OUT Instructor: Sibel Doral
URL:https://scknittingguild.com/index.php/event/helical-knitting/
CATEGORIES:KnitInn,KnitInn Class
ATTACH;FMTTYPE=image/jpeg:https://scknittingguild.com/wp-content/uploads/2024/10/helical-small.jpg
END:VEVENT
BEGIN:VEVENT
DTSTART;TZID=America/New_York:20250201T090000
DTEND;TZID=America/New_York:20250201T113000
DTSTAMP:20260425T083847
CREATED:20241018T162409Z
LAST-MODIFIED:20241019T012703Z
UID:43962-1738400400-1738409400@scknittingguild.com
SUMMARY:DESIGN YOUR OWN COLORWORK COWL
DESCRIPTION:Instructor: Tanis Gray
URL:https://scknittingguild.com/index.php/event/43962/
CATEGORIES:KnitInn,KnitInn Class
ATTACH;FMTTYPE=image/jpeg:https://scknittingguild.com/wp-content/uploads/2024/10/Design.jpg
END:VEVENT
BEGIN:VEVENT
DTSTART;TZID=America/New_York:20250201T090000
DTEND;TZID=America/New_York:20250201T110000
DTSTAMP:20260425T083847
CREATED:20241019T014314Z
LAST-MODIFIED:20250103T183923Z
UID:44033-1738400400-1738407600@scknittingguild.com
SUMMARY:Purple Thistles Cowl
DESCRIPTION:SOLD OUT Instructor: Carolyn Freshour
URL:https://scknittingguild.com/index.php/event/purple-thistles-cowl/
CATEGORIES:KnitInn,KnitInn Class
END:VEVENT
BEGIN:VEVENT
DTSTART;TZID=America/New_York:20250131T163000
DTEND;TZID=America/New_York:20250131T170000
DTSTAMP:20260425T083847
CREATED:20241024T184046Z
LAST-MODIFIED:20241024T184046Z
UID:44144-1738341000-1738342800@scknittingguild.com
SUMMARY:Chair Yoga for Fiber Artists
DESCRIPTION:Instructor: Anne Watson
URL:https://scknittingguild.com/index.php/event/chair-yoga-for-fiber-artists-6/
CATEGORIES:KnitInn,KnitInn Class
ATTACH;FMTTYPE=image/jpeg:https://scknittingguild.com/wp-content/uploads/2023/10/chair-yoga-clipart-22.jpg
END:VEVENT
BEGIN:VEVENT
DTSTART;TZID=America/New_York:20250131T140000
DTEND;TZID=America/New_York:20250131T170000
DTSTAMP:20260425T083847
CREATED:20241019T011806Z
LAST-MODIFIED:20241019T112902Z
UID:44028-1738332000-1738342800@scknittingguild.com
SUMMARY:Basic Brioche Cowl
DESCRIPTION:Instructor: Laura Tesh
URL:https://scknittingguild.com/index.php/event/basic-brioche-cowl/
CATEGORIES:KnitInn,KnitInn Class
ATTACH;FMTTYPE=image/jpeg:https://scknittingguild.com/wp-content/uploads/2024/03/6009.jpeg
END:VEVENT
BEGIN:VEVENT
DTSTART;TZID=America/New_York:20250131T140000
DTEND;TZID=America/New_York:20250131T170000
DTSTAMP:20260425T083847
CREATED:20241018T225329Z
LAST-MODIFIED:20250113T205016Z
UID:44011-1738332000-1738342800@scknittingguild.com
SUMMARY:TAAT Toe-Up
DESCRIPTION:SOLD OUT Instructor: Katherine Dobrenen
URL:https://scknittingguild.com/index.php/event/taat-toe-up/
CATEGORIES:KnitInn,KnitInn Class
ATTACH;FMTTYPE=image/jpeg:https://scknittingguild.com/wp-content/uploads/2024/10/TAAT.jpg
END:VEVENT
BEGIN:VEVENT
DTSTART;TZID=America/New_York:20250131T140000
DTEND;TZID=America/New_York:20250131T163000
DTSTAMP:20260425T083847
CREATED:20241018T161739Z
LAST-MODIFIED:20250103T183921Z
UID:43959-1738332000-1738341000@scknittingguild.com
SUMMARY:STRANDED COLORWORK AND LATVIAN BRAIDS
DESCRIPTION:SOLD OUT Instructor: Tanis Gray
URL:https://scknittingguild.com/index.php/event/stranded-colorwork-and-latvian-braids-workshop/
CATEGORIES:KnitInn,KnitInn Class
ATTACH;FMTTYPE=image/jpeg:https://scknittingguild.com/wp-content/uploads/2024/10/luminosu1.jpeg
END:VEVENT
BEGIN:VEVENT
DTSTART;TZID=America/New_York:20250131T140000
DTEND;TZID=America/New_York:20250131T160000
DTSTAMP:20260425T083847
CREATED:20241019T102817Z
LAST-MODIFIED:20241019T102817Z
UID:44037-1738332000-1738339200@scknittingguild.com
SUMMARY:Chunky Finger Knitting
DESCRIPTION:Instructor: Deb Gouldin
URL:https://scknittingguild.com/index.php/event/chunky-finger-knitting/
CATEGORIES:KnitInn,KnitInn Class
END:VEVENT
BEGIN:VEVENT
DTSTART;TZID=America/New_York:20250131T140000
DTEND;TZID=America/New_York:20250131T160000
DTSTAMP:20260425T083847
CREATED:20241018T223159Z
LAST-MODIFIED:20241019T103400Z
UID:44004-1738332000-1738339200@scknittingguild.com
SUMMARY:Felted Felines
DESCRIPTION:Instructor: Jennifer Fairbairn
URL:https://scknittingguild.com/index.php/event/felted-felines/
CATEGORIES:KnitInn,KnitInn Class
ATTACH;FMTTYPE=image/jpeg:https://scknittingguild.com/wp-content/uploads/2024/10/cats-small.jpg
END:VEVENT
BEGIN:VEVENT
DTSTART;TZID=America/New_York:20250131T113000
DTEND;TZID=America/New_York:20250131T120000
DTSTAMP:20260425T083847
CREATED:20241024T183853Z
LAST-MODIFIED:20241024T183853Z
UID:44142-1738323000-1738324800@scknittingguild.com
SUMMARY:Chair Yoga for Fiber Artists
DESCRIPTION:Instructor: Anne Watson
URL:https://scknittingguild.com/index.php/event/chair-yoga-for-fiber-artists-5/
CATEGORIES:KnitInn,KnitInn Class
ATTACH;FMTTYPE=image/jpeg:https://scknittingguild.com/wp-content/uploads/2023/10/chair-yoga-clipart-22.jpg
END:VEVENT
BEGIN:VEVENT
DTSTART;TZID=America/New_York:20250131T090000
DTEND;TZID=America/New_York:20250131T120000
DTSTAMP:20260425T083847
CREATED:20241019T110422Z
LAST-MODIFIED:20241019T110422Z
UID:44050-1738314000-1738324800@scknittingguild.com
SUMMARY:Short Rows Scarf
DESCRIPTION:Instructor: Susie Ericson-West
URL:https://scknittingguild.com/index.php/event/short-rows-scarf/
CATEGORIES:KnitInn,KnitInn Class
ATTACH;FMTTYPE=image/jpeg:https://scknittingguild.com/wp-content/uploads/2024/10/Short-Rows-Scarf-photo-small.jpg
END:VEVENT
BEGIN:VEVENT
DTSTART;TZID=America/New_York:20250131T090000
DTEND;TZID=America/New_York:20250131T120000
DTSTAMP:20260425T083847
CREATED:20241018T215317Z
LAST-MODIFIED:20250103T183915Z
UID:43989-1738314000-1738324800@scknittingguild.com
SUMMARY:Zwirnknopf Buttons
DESCRIPTION:SOLD OUT Instructor: Donna Boylan
URL:https://scknittingguild.com/index.php/event/zwirnknopf-buttons-2/
CATEGORIES:KnitInn,KnitInn Class
ATTACH;FMTTYPE=image/jpeg:https://scknittingguild.com/wp-content/uploads/2023/10/IMG_8593-small.jpg
END:VEVENT
BEGIN:VEVENT
DTSTART;TZID=America/New_York:20250131T090000
DTEND;TZID=America/New_York:20250131T120000
DTSTAMP:20260425T083847
CREATED:20241018T214613Z
LAST-MODIFIED:20241024T185519Z
UID:43984-1738314000-1738324800@scknittingguild.com
SUMMARY:Mosaic Knitting
DESCRIPTION:Instructor: Sharon Swede
URL:https://scknittingguild.com/index.php/event/mosaic-knitting-2/
CATEGORIES:KnitInn,KnitInn Class
ATTACH;FMTTYPE=image/jpeg:https://scknittingguild.com/wp-content/uploads/2024/10/image0-1.jpg
END:VEVENT
BEGIN:VEVENT
DTSTART;TZID=America/New_York:20250131T090000
DTEND;TZID=America/New_York:20250131T113000
DTSTAMP:20260425T083847
CREATED:20241018T155840Z
LAST-MODIFIED:20250103T183918Z
UID:43955-1738314000-1738323000@scknittingguild.com
SUMMARY:DOUBLE KNITTING
DESCRIPTION:SOLD OUT Instructor: Tanis Gray
URL:https://scknittingguild.com/index.php/event/double-knitting-2/
CATEGORIES:KnitInn,KnitInn Class
ATTACH;FMTTYPE=image/jpeg:https://scknittingguild.com/wp-content/uploads/2024/10/bridgerton7.jpeg
END:VEVENT
BEGIN:VEVENT
DTSTART;TZID=America/New_York:20250131T090000
DTEND;TZID=America/New_York:20250131T110000
DTSTAMP:20260425T083847
CREATED:20241018T223017Z
LAST-MODIFIED:20250103T183911Z
UID:44002-1738314000-1738321200@scknittingguild.com
SUMMARY:Norwegian Knit and Purl
DESCRIPTION:SOLD OUT Instructor: Judith Rising
URL:https://scknittingguild.com/index.php/event/norwegian-knit-and-purl-3/
CATEGORIES:KnitInn,KnitInn Class
ATTACH;FMTTYPE=image/jpeg:https://scknittingguild.com/wp-content/uploads/2023/10/IMG_6172.jpg
END:VEVENT
END:VCALENDAR