BEGIN:VCALENDAR
VERSION:2.0
PRODID:-//SCKG - ECPv6.15.20//NONSGML v1.0//EN
CALSCALE:GREGORIAN
METHOD:PUBLISH
X-ORIGINAL-URL:https://scknittingguild.com
X-WR-CALDESC:Events for SCKG
REFRESH-INTERVAL;VALUE=DURATION:PT1H
X-Robots-Tag:noindex
X-PUBLISHED-TTL:PT1H
BEGIN:VTIMEZONE
TZID:America/New_York
BEGIN:DAYLIGHT
TZOFFSETFROM:-0500
TZOFFSETTO:-0400
TZNAME:EDT
DTSTART:20240310T070000
END:DAYLIGHT
BEGIN:STANDARD
TZOFFSETFROM:-0400
TZOFFSETTO:-0500
TZNAME:EST
DTSTART:20241103T060000
END:STANDARD
BEGIN:DAYLIGHT
TZOFFSETFROM:-0500
TZOFFSETTO:-0400
TZNAME:EDT
DTSTART:20250309T070000
END:DAYLIGHT
BEGIN:STANDARD
TZOFFSETFROM:-0400
TZOFFSETTO:-0500
TZNAME:EST
DTSTART:20251102T060000
END:STANDARD
BEGIN:DAYLIGHT
TZOFFSETFROM:-0500
TZOFFSETTO:-0400
TZNAME:EDT
DTSTART:20260308T070000
END:DAYLIGHT
BEGIN:STANDARD
TZOFFSETFROM:-0400
TZOFFSETTO:-0500
TZNAME:EST
DTSTART:20261101T060000
END:STANDARD
END:VTIMEZONE
BEGIN:VEVENT
DTSTART;TZID=America/New_York:20250201T090000
DTEND;TZID=America/New_York:20250201T110000
DTSTAMP:20260425T115823
CREATED:20241019T014314Z
LAST-MODIFIED:20250103T183923Z
UID:44033-1738400400-1738407600@scknittingguild.com
SUMMARY:Purple Thistles Cowl
DESCRIPTION:SOLD OUT Instructor: Carolyn Freshour
URL:https://scknittingguild.com/index.php/event/purple-thistles-cowl/
CATEGORIES:KnitInn,KnitInn Class
END:VEVENT
BEGIN:VEVENT
DTSTART;TZID=America/New_York:20250201T090000
DTEND;TZID=America/New_York:20250201T113000
DTSTAMP:20260425T115823
CREATED:20241018T162409Z
LAST-MODIFIED:20241019T012703Z
UID:43962-1738400400-1738409400@scknittingguild.com
SUMMARY:DESIGN YOUR OWN COLORWORK COWL
DESCRIPTION:Instructor: Tanis Gray
URL:https://scknittingguild.com/index.php/event/43962/
CATEGORIES:KnitInn,KnitInn Class
ATTACH;FMTTYPE=image/jpeg:https://scknittingguild.com/wp-content/uploads/2024/10/Design.jpg
END:VEVENT
BEGIN:VEVENT
DTSTART;TZID=America/New_York:20250201T090000
DTEND;TZID=America/New_York:20250201T120000
DTSTAMP:20260425T115823
CREATED:20241019T105605Z
LAST-MODIFIED:20250103T183926Z
UID:44045-1738400400-1738411200@scknittingguild.com
SUMMARY:Helical Knitting
DESCRIPTION:SOLD OUT Instructor: Sibel Doral
URL:https://scknittingguild.com/index.php/event/helical-knitting/
CATEGORIES:KnitInn,KnitInn Class
ATTACH;FMTTYPE=image/jpeg:https://scknittingguild.com/wp-content/uploads/2024/10/helical-small.jpg
END:VEVENT
BEGIN:VEVENT
DTSTART;TZID=America/New_York:20250201T090000
DTEND;TZID=America/New_York:20250201T120000
DTSTAMP:20260425T115823
CREATED:20241019T135014Z
LAST-MODIFIED:20241024T185433Z
UID:44097-1738400400-1738411200@scknittingguild.com
SUMMARY:Felted Teacup Pin Cushion
DESCRIPTION:Instructor: Linda Dooley
URL:https://scknittingguild.com/index.php/event/felted-teacup-pin-cushion/
CATEGORIES:KnitInn,KnitInn Class
ATTACH;FMTTYPE=image/jpeg:https://scknittingguild.com/wp-content/uploads/2024/10/teacup.jpg
END:VEVENT
BEGIN:VEVENT
DTSTART;TZID=America/New_York:20250201T090000
DTEND;TZID=America/New_York:20250201T120000
DTSTAMP:20260425T115823
CREATED:20241019T232007Z
LAST-MODIFIED:20250103T183928Z
UID:44125-1738400400-1738411200@scknittingguild.com
SUMMARY:Armenian Needle Lace
DESCRIPTION:SOLD OUT Instructor: Lisa Lamb
URL:https://scknittingguild.com/index.php/event/armenian-needle-lace/
CATEGORIES:KnitInn,KnitInn Class
ATTACH;FMTTYPE=image/jpeg:https://scknittingguild.com/wp-content/uploads/2024/10/Armenian-needle-lace-example-small.jpg
END:VEVENT
BEGIN:VEVENT
DTSTART;TZID=America/New_York:20250201T113000
DTEND;TZID=America/New_York:20250201T120000
DTSTAMP:20260425T115823
CREATED:20241024T184132Z
LAST-MODIFIED:20241024T184132Z
UID:44146-1738409400-1738411200@scknittingguild.com
SUMMARY:Chair Yoga for Fiber Artists
DESCRIPTION:Instructor: Anne Watson
URL:https://scknittingguild.com/index.php/event/chair-yoga-for-fiber-artists-7/
CATEGORIES:KnitInn,KnitInn Class
ATTACH;FMTTYPE=image/jpeg:https://scknittingguild.com/wp-content/uploads/2023/10/chair-yoga-clipart-22.jpg
END:VEVENT
BEGIN:VEVENT
DTSTART;TZID=America/New_York:20250201T140000
DTEND;TZID=America/New_York:20250201T160000
DTSTAMP:20260425T115823
CREATED:20241019T003739Z
LAST-MODIFIED:20241019T003739Z
UID:44021-1738418400-1738425600@scknittingguild.com
SUMMARY:Using Ravelry
DESCRIPTION:Instructor: Laura Tesh
URL:https://scknittingguild.com/index.php/event/using-ravelry/
CATEGORIES:KnitInn,KnitInn Class
END:VEVENT
BEGIN:VEVENT
DTSTART;TZID=America/New_York:20250201T140000
DTEND;TZID=America/New_York:20250201T163000
DTSTAMP:20260425T115823
CREATED:20241018T163518Z
LAST-MODIFIED:20250103T183931Z
UID:43968-1738418400-1738427400@scknittingguild.com
SUMMARY:ESTONIAN INLAY & ESTONIAN BRAIDS
DESCRIPTION:SOLD OUT Instructor: Tanis Gray
URL:https://scknittingguild.com/index.php/event/estonian-inlay-estonian-braids/
CATEGORIES:KnitInn,KnitInn Class
ATTACH;FMTTYPE=image/jpeg:https://scknittingguild.com/wp-content/uploads/2024/10/shortreprise1.jpeg
END:VEVENT
BEGIN:VEVENT
DTSTART;TZID=America/New_York:20250201T140000
DTEND;TZID=America/New_York:20250201T163000
DTSTAMP:20260425T115823
CREATED:20241019T120506Z
LAST-MODIFIED:20241019T120506Z
UID:44058-1738418400-1738427400@scknittingguild.com
SUMMARY:Italian Summer Scarf
DESCRIPTION:Instructor: Mary Ann Cullen
URL:https://scknittingguild.com/index.php/event/italian-summer-scarf/
CATEGORIES:KnitInn,KnitInn Class
ATTACH;FMTTYPE=image/jpeg:https://scknittingguild.com/wp-content/uploads/2024/10/Italian-Summer-Scarf-pattern-photo.jpeg
END:VEVENT
BEGIN:VEVENT
DTSTART;TZID=America/New_York:20250201T140000
DTEND;TZID=America/New_York:20250201T170000
DTSTAMP:20260425T115823
CREATED:20241019T120922Z
LAST-MODIFIED:20250103T183934Z
UID:44062-1738418400-1738429200@scknittingguild.com
SUMMARY:Sequence Knitting
DESCRIPTION:SOLD OUT Instructor: Carolyn Freshour
URL:https://scknittingguild.com/index.php/event/sequence-knitting-3/
CATEGORIES:KnitInn,KnitInn Class
ATTACH;FMTTYPE=image/png:https://scknittingguild.com/wp-content/uploads/2023/10/sequence.png
END:VEVENT
BEGIN:VEVENT
DTSTART;TZID=America/New_York:20250201T140000
DTEND;TZID=America/New_York:20250201T170000
DTSTAMP:20260425T115823
CREATED:20241019T143758Z
LAST-MODIFIED:20250103T183937Z
UID:44102-1738418400-1738429200@scknittingguild.com
SUMMARY:Beaded Christmas Ornament
DESCRIPTION:SOLD OUT Instructor: Danette Pilgrim
URL:https://scknittingguild.com/index.php/event/beaded-christmas-ornament/
CATEGORIES:KnitInn,KnitInn Class
ATTACH;FMTTYPE=image/jpeg:https://scknittingguild.com/wp-content/uploads/2024/10/IMG_20241019_102814.jpg
END:VEVENT
BEGIN:VEVENT
DTSTART;TZID=America/New_York:20250201T163000
DTEND;TZID=America/New_York:20250201T170000
DTSTAMP:20260425T115823
CREATED:20241024T184208Z
LAST-MODIFIED:20241024T184245Z
UID:44148-1738427400-1738429200@scknittingguild.com
SUMMARY:Chair Yoga for Fiber Artists
DESCRIPTION:Instructor: Anne Watson
URL:https://scknittingguild.com/index.php/event/https-scknittingguild-com-index-php-product-chair-yoga-for-fiber-artists/
CATEGORIES:KnitInn,KnitInn Class
ATTACH;FMTTYPE=image/jpeg:https://scknittingguild.com/wp-content/uploads/2023/10/chair-yoga-clipart-22.jpg
END:VEVENT
END:VCALENDAR